Back to Multiple platform build/check report for BioC 3.13
AB[C]DEFGHIJKLMNOPQRSTUVWXYZ

BUILD report for ClassifyR on riesling1

This page was generated on 2020-11-25 11:58:40 -0500 (Wed, 25 Nov 2020).

TO THE DEVELOPERS/MAINTAINERS OF THE ClassifyR PACKAGE: Please make sure to use the following settings in order to reproduce any error or warning you see on this page.
Package 302/1907HostnameOS / ArchINSTALLBUILDCHECKBUILD BIN
ClassifyR 2.11.0
Dario Strbenac
Snapshot Date: 2020-11-24 14:41:13 -0500 (Tue, 24 Nov 2020)
URL: https://git.bioconductor.org/packages/ClassifyR
Branch: master
Last Commit: e4a0740
Last Changed Date: 2020-10-27 10:58:03 -0500 (Tue, 27 Oct 2020)
malbec2 Linux (Ubuntu 20.04.1 LTS) / x86_64  OK  OK  OK UNNEEDED, same version exists in internal repository
tokay2 Windows Server 2012 R2 Standard / x64  OK  OK  WARNINGS  OK UNNEEDED, same version exists in internal repository
riesling1 Windows Server 2019 Standard / x64  OK [ OK ] WARNINGS  OK 
machv2 macOS 10.14.6 Mojave / x86_64  OK  OK  OK  OK UNNEEDED, same version exists in internal repository

Summary

Package: ClassifyR
Version: 2.11.0
Command: chmod a+r ClassifyR -R && D:\biocbuild\bbs-3.13-bioc\R\bin\R.exe CMD build --keep-empty-dirs --no-resave-data ClassifyR
StartedAt: 2020-11-24 17:54:46 -0500 (Tue, 24 Nov 2020)
EndedAt: 2020-11-24 18:00:31 -0500 (Tue, 24 Nov 2020)
EllapsedTime: 344.5 seconds
RetCode: 0
Status:  OK  
PackageFile: ClassifyR_2.11.0.tar.gz
PackageFileSize: 1.424 MiB

Command output

##############################################################################
##############################################################################
###
### Running command:
###
###   chmod a+r ClassifyR -R && D:\biocbuild\bbs-3.13-bioc\R\bin\R.exe CMD build --keep-empty-dirs --no-resave-data ClassifyR
###
##############################################################################
##############################################################################


* checking for file 'ClassifyR/DESCRIPTION' ... OK
* preparing 'ClassifyR':
* checking DESCRIPTION meta-information ... OK
* installing the package to build vignettes
* creating vignettes ... OK
* checking for LF line-endings in source and make files and shell scripts
* checking for empty or unneeded directories
* looking to see if a 'data/datalist' file should be added
* building 'ClassifyR_2.11.0.tar.gz'