Back to Multiple platform build/check report for BioC 3.13
AB[C]DEFGHIJKLMNOPQRSTUVWXYZ

BUILD BIN report for ClassifyR on riesling1

This page was generated on 2020-11-23 12:25:23 -0500 (Mon, 23 Nov 2020).

TO THE DEVELOPERS/MAINTAINERS OF THE ClassifyR PACKAGE: Please make sure to use the following settings in order to reproduce any error or warning you see on this page.
Package 302/1907HostnameOS / ArchINSTALLBUILDCHECKBUILD BIN
ClassifyR 2.11.0
Dario Strbenac
Snapshot Date: 2020-11-22 14:40:22 -0500 (Sun, 22 Nov 2020)
URL: https://git.bioconductor.org/packages/ClassifyR
Branch: master
Last Commit: e4a0740
Last Changed Date: 2020-10-27 10:58:03 -0500 (Tue, 27 Oct 2020)
malbec2 Linux (Ubuntu 20.04.1 LTS) / x86_64  OK  OK  OK UNNEEDED, same version exists in internal repository
tokay2 Windows Server 2012 R2 Standard / x64  OK  OK  WARNINGS  OK UNNEEDED, same version exists in internal repository
riesling1 Windows Server 2019 Standard / x64  OK  OK  WARNINGS [ OK ]
machv2 macOS 10.14.6 Mojave / x86_64  OK  OK  OK  OK UNNEEDED, same version exists in internal repository

Summary

Package: ClassifyR
Version: 2.11.0
Command: rm -rf ClassifyR.buildbin-libdir && mkdir ClassifyR.buildbin-libdir && D:\biocbuild\bbs-3.13-bioc\R\bin\R.exe CMD INSTALL --merge-multiarch --build --library=ClassifyR.buildbin-libdir ClassifyR_2.11.0.tar.gz
StartedAt: 2020-11-22 22:42:21 -0500 (Sun, 22 Nov 2020)
EndedAt: 2020-11-22 22:44:06 -0500 (Sun, 22 Nov 2020)
EllapsedTime: 104.6 seconds
RetCode: 0
Status:  OK  
PackageFile: ClassifyR_2.11.0.zip
PackageFileSize: 2.168 MiB

Command output

##############################################################################
##############################################################################
###
### Running command:
###
###   rm -rf ClassifyR.buildbin-libdir && mkdir ClassifyR.buildbin-libdir && D:\biocbuild\bbs-3.13-bioc\R\bin\R.exe CMD INSTALL --merge-multiarch --build --library=ClassifyR.buildbin-libdir ClassifyR_2.11.0.tar.gz
###
##############################################################################
##############################################################################



install for i386

* installing *source* package 'ClassifyR' ...
** using staged installation
** R
** data
** inst
** byte-compile and prepare package for lazy loading
** help
*** installing help indices
  converting help for package 'ClassifyR'
    finding HTML links ... done
    ClassifyResult-class                    html  
REDIRECT:topic	 ClassifyResult -> ClassifyResult-class.html [ SUCCESS ]
REDIRECT:topic	 ClassifyResult-class -> ClassifyResult-class.html [ SUCCESS ]
REDIRECT:topic	 ClassifyResult,character,character,character,character,characterOrDataFrame-method -> ClassifyResult-class.html [ SUCCESS ]
REDIRECT:topic	 show,ClassifyResult-method -> ClassifyResult-class.html [ SUCCESS ]
REDIRECT:topic	 sampleNames -> ClassifyResult-class.html [ SUCCESS ]
REDIRECT:topic	 sampleNames,ClassifyResult-method -> ClassifyResult-class.html [ SUCCESS ]
REDIRECT:topic	 featureNames -> ClassifyResult-class.html [ SUCCESS ]
REDIRECT:topic	 featureNames,ClassifyResult-method -> ClassifyResult-class.html [ SUCCESS ]
REDIRECT:topic	 predictions -> ClassifyResult-class.html [ SUCCESS ]
REDIRECT:topic	 predictions,ClassifyResult-method -> ClassifyResult-class.html [ SUCCESS ]
REDIRECT:topic	 actualClasses -> ClassifyResult-class.html [ SUCCESS ]
REDIRECT:topic	 actualClasses,ClassifyResult-method -> ClassifyResult-class.html [ SUCCESS ]
REDIRECT:topic	 features -> ClassifyResult-class.html [ SUCCESS ]
REDIRECT:topic	 features,ClassifyResult-method -> ClassifyResult-class.html [ SUCCESS ]
REDIRECT:topic	 models -> ClassifyResult-class.html [ SUCCESS ]
REDIRECT:topic	 models,ClassifyResult-method -> ClassifyResult-class.html [ SUCCESS ]
REDIRECT:topic	 performance -> ClassifyResult-class.html [ SUCCESS ]
REDIRECT:topic	 performance,ClassifyResult-method -> ClassifyResult-class.html [ SUCCESS ]
REDIRECT:topic	 tunedParameters -> ClassifyResult-class.html [ SUCCESS ]
REDIRECT:topic	 tunedParameters,ClassifyResult-method -> ClassifyResult-class.html [ SUCCESS ]
REDIRECT:topic	 totalPredictions -> ClassifyResult-class.html [ SUCCESS ]
REDIRECT:topic	 totalPredictions,ClassifyResult-method -> ClassifyResult-class.html [ SUCCESS ]
    finding level-2 HTML links ... done

    DLDAinterface                           html  
REDIRECT:topic	 DLDAtrainInterface -> DLDAinterface.html [ SUCCESS ]
REDIRECT:topic	 DLDAtrainInterface,matrix-method -> DLDAinterface.html [ SUCCESS ]
REDIRECT:topic	 DLDAtrainInterface,DataFrame-method -> DLDAinterface.html [ SUCCESS ]
REDIRECT:topic	 DLDAtrainInterface,MultiAssayExperiment-method -> DLDAinterface.html [ SUCCESS ]
REDIRECT:topic	 DLDApredictInterface -> DLDAinterface.html [ SUCCESS ]
REDIRECT:topic	 DLDApredictInterface,dlda,matrix-method -> DLDAinterface.html [ SUCCESS ]
REDIRECT:topic	 DLDApredictInterface,dlda,DataFrame-method -> DLDAinterface.html [ SUCCESS ]
REDIRECT:topic	 DLDApredictInterface,dlda,MultiAssayExperiment-method -> DLDAinterface.html [ SUCCESS ]
REDIRECT:file	 DLDAinterface.html -> DLDAinterface.html [ SUCCESS ]
    DMDselection                            html  
REDIRECT:topic	 DMDselection -> DMDselection.html [ SUCCESS ]
REDIRECT:topic	 DMDselection,matrix-method -> DMDselection.html [ SUCCESS ]
REDIRECT:topic	 DMDselection,DataFrame-method -> DMDselection.html [ SUCCESS ]
REDIRECT:topic	 DMDselection,MultiAssayExperiment-method -> DMDselection.html [ SUCCESS ]
    EasyHardClassifier-class                html  
REDIRECT:topic	 EasyHardClassifier -> EasyHardClassifier-class.html [ SUCCESS ]
REDIRECT:topic	 EasyHardClassifier-class -> EasyHardClassifier-class.html [ SUCCESS ]
REDIRECT:topic	 EasyHardClassifier,listOrNULL,listOrCharacterOrNULL,character-method -> EasyHardClassifier-class.html [ SUCCESS ]
REDIRECT:topic	 show,EasyHardClassifier-method -> EasyHardClassifier-class.html [ SUCCESS ]
    FeatureSetCollection-class              html  
REDIRECT:topic	 FeatureSetCollection -> FeatureSetCollection-class.html [ SUCCESS ]
REDIRECT:topic	 FeatureSetCollection-class -> FeatureSetCollection-class.html [ SUCCESS ]
REDIRECT:topic	 FeatureSetCollection,list-method -> FeatureSetCollection-class.html [ SUCCESS ]
REDIRECT:topic	 length,FeatureSetCollection-method -> FeatureSetCollection-class.html [ SUCCESS ]
REDIRECT:topic	 show,FeatureSetCollection-method -> FeatureSetCollection-class.html [ SUCCESS ]
REDIRECT:topic	 [,FeatureSetCollection,integerOrNumeric,missing,ANY-method -> FeatureSetCollection-class.html [ SUCCESS ]
REDIRECT:topic	 [[,FeatureSetCollection,ANY,missing-method -> FeatureSetCollection-class.html [ SUCCESS ]
    FeatureSetCollectionOrNULL-class        html  
REDIRECT:topic	 FeatureSetCollectionOrNULL -> FeatureSetCollectionOrNULL-class.html [ SUCCESS ]
REDIRECT:topic	 FeatureSetCollectionOrNULL-class -> FeatureSetCollectionOrNULL-class.html [ SUCCESS ]
    KolmogorovSmirnovSelection              html  
REDIRECT:topic	 KolmogorovSmirnovSelection -> KolmogorovSmirnovSelection.html [ SUCCESS ]
REDIRECT:topic	 KolmogorovSmirnovSelection,matrix-method -> KolmogorovSmirnovSelection.html [ SUCCESS ]
REDIRECT:topic	 KolmogorovSmirnovSelection,DataFrame-method -> KolmogorovSmirnovSelection.html [ SUCCESS ]
REDIRECT:topic	 KolmogorovSmirnovSelection,MultiAssayExperiment-method -> KolmogorovSmirnovSelection.html [ SUCCESS ]
    KullbackLeiblerSelection                html  
REDIRECT:topic	 KullbackLeiblerSelection -> KullbackLeiblerSelection.html [ SUCCESS ]
REDIRECT:topic	 KullbackLeiblerSelection,matrix-method -> KullbackLeiblerSelection.html [ SUCCESS ]
REDIRECT:topic	 KullbackLeiblerSelection,DataFrame-method -> KullbackLeiblerSelection.html [ SUCCESS ]
REDIRECT:topic	 KullbackLeiblerSelection,MultiAssayExperiment-method -> KullbackLeiblerSelection.html [ SUCCESS ]
    MixModelsListsSet-class                 html  
REDIRECT:topic	 MixModelsListsSet -> MixModelsListsSet-class.html [ SUCCESS ]
REDIRECT:topic	 MixModelsListsSet-class -> MixModelsListsSet-class.html [ SUCCESS ]
REDIRECT:topic	 MixModelsListsSet,list-method -> MixModelsListsSet-class.html [ SUCCESS ]
    NSCpredictInterface                     html  
REDIRECT:topic	 NSCpredictInterface -> NSCpredictInterface.html [ SUCCESS ]
REDIRECT:topic	 NSCpredictInterface,pamrtrained,matrix-method -> NSCpredictInterface.html [ SUCCESS ]
REDIRECT:topic	 NSCpredictInterface,pamrtrained,DataFrame-method -> NSCpredictInterface.html [ SUCCESS ]
REDIRECT:topic	 NSCpredictInterface,pamrtrained,MultiAssayExperiment-method -> NSCpredictInterface.html [ SUCCESS ]
    NSCselectionInterface                   html  
REDIRECT:topic	 NSCselectionInterface -> NSCselectionInterface.html [ SUCCESS ]
REDIRECT:topic	 NSCselectionInterface,matrix-method -> NSCselectionInterface.html [ SUCCESS ]
REDIRECT:topic	 NSCselectionInterface,DataFrame-method -> NSCselectionInterface.html [ SUCCESS ]
REDIRECT:topic	 NSCselectionInterface,MultiAssayExperiment-method -> NSCselectionInterface.html [ SUCCESS ]
    NSCtrainInterface                       html  
REDIRECT:topic	 NSCtrainInterface -> NSCtrainInterface.html [ SUCCESS ]
REDIRECT:topic	 NSCtrainInterface,matrix-method -> NSCtrainInterface.html [ SUCCESS ]
REDIRECT:topic	 NSCtrainInterface,DataFrame-method -> NSCtrainInterface.html [ SUCCESS ]
REDIRECT:topic	 NSCtrainInterface,MultiAssayExperiment-method -> NSCtrainInterface.html [ SUCCESS ]
    PredictParams-class                     html  
REDIRECT:topic	 PredictParams -> PredictParams-class.html [ SUCCESS ]
REDIRECT:topic	 PredictParams-class -> PredictParams-class.html [ SUCCESS ]
REDIRECT:topic	 PredictParams,ANY-method -> PredictParams-class.html [ SUCCESS ]
REDIRECT:topic	 PredictParams,functionOrNULL-method -> PredictParams-class.html [ SUCCESS ]
    ROCplot                                 html  
REDIRECT:topic	 ROCplot -> ROCplot.html [ SUCCESS ]
REDIRECT:topic	 ROCplot,list-method -> ROCplot.html [ SUCCESS ]
    ResubstituteParams-class                html  
REDIRECT:topic	 ResubstituteParams -> ResubstituteParams-class.html [ SUCCESS ]
REDIRECT:topic	 ResubstituteParams-class -> ResubstituteParams-class.html [ SUCCESS ]
REDIRECT:topic	 ResubstituteParams,ANY,ANY,ANY-method -> ResubstituteParams-class.html [ SUCCESS ]
REDIRECT:topic	 ResubstituteParams,numeric,character,character-method -> ResubstituteParams-class.html [ SUCCESS ]
    SVMinterface                            html  
REDIRECT:topic	 SVMtrainInterface -> SVMinterface.html [ SUCCESS ]
REDIRECT:topic	 SVMtrainInterface,matrix-method -> SVMinterface.html [ SUCCESS ]
REDIRECT:topic	 SVMtrainInterface,DataFrame-method -> SVMinterface.html [ SUCCESS ]
REDIRECT:topic	 SVMtrainInterface,MultiAssayExperiment-method -> SVMinterface.html [ SUCCESS ]
REDIRECT:topic	 SVMpredictInterface -> SVMinterface.html [ SUCCESS ]
REDIRECT:topic	 SVMpredictInterface,svm,matrix-method -> SVMinterface.html [ SUCCESS ]
REDIRECT:topic	 SVMpredictInterface,svm,DataFrame-method -> SVMinterface.html [ SUCCESS ]
REDIRECT:topic	 SVMpredictInterface,svm,MultiAssayExperiment-method -> SVMinterface.html [ SUCCESS ]
REDIRECT:file	 SVMinterface.html -> SVMinterface.html [ SUCCESS ]
    SelectParams-class                      html  
REDIRECT:topic	 SelectParams -> SelectParams-class.html [ SUCCESS ]
REDIRECT:topic	 SelectParams-class -> SelectParams-class.html [ SUCCESS ]
REDIRECT:topic	 SelectParams,ANY-method -> SelectParams-class.html [ SUCCESS ]
REDIRECT:topic	 SelectParams,functionOrList-method -> SelectParams-class.html [ SUCCESS ]
    SelectResult-class                      html  
REDIRECT:topic	 SelectResult -> SelectResult-class.html [ SUCCESS ]
REDIRECT:topic	 SelectResult-class -> SelectResult-class.html [ SUCCESS ]
REDIRECT:topic	 SelectResult,character,character,numeric,list,list-method -> SelectResult-class.html [ SUCCESS ]
REDIRECT:topic	 show,SelectResult-method -> SelectResult-class.html [ SUCCESS ]
    TrainParams-class                       html  
REDIRECT:topic	 TrainParams -> TrainParams-class.html [ SUCCESS ]
REDIRECT:topic	 TrainParams-class -> TrainParams-class.html [ SUCCESS ]
REDIRECT:topic	 TrainParams,ANY-method -> TrainParams-class.html [ SUCCESS ]
REDIRECT:topic	 TrainParams,function-method -> TrainParams-class.html [ SUCCESS ]
    TransformParams-class                   html  
REDIRECT:topic	 TransformParams -> TransformParams-class.html [ SUCCESS ]
REDIRECT:topic	 TransformParams-class -> TransformParams-class.html [ SUCCESS ]
REDIRECT:topic	 TransformParams,ANY-method -> TransformParams-class.html [ SUCCESS ]
REDIRECT:topic	 TransformParams,function-method -> TransformParams-class.html [ SUCCESS ]
    asthmaDataset                           html  
REDIRECT:topic	 measurements -> asthmaDataset.html [ SUCCESS ]
REDIRECT:topic	 classes -> asthmaDataset.html [ SUCCESS ]
REDIRECT:file	 asthmaDataset.html -> asthmaDataset.html [ SUCCESS ]
    bartlettSelection                       html  
REDIRECT:topic	 bartlettSelection -> bartlettSelection.html [ SUCCESS ]
REDIRECT:topic	 bartlettSelection,matrix-method -> bartlettSelection.html [ SUCCESS ]
REDIRECT:topic	 bartlettSelection,DataFrame-method -> bartlettSelection.html [ SUCCESS ]
REDIRECT:topic	 bartlettSelection,MultiAssayExperiment-method -> bartlettSelection.html [ SUCCESS ]
    calcPerformance                         html  
REDIRECT:topic	 calcPerformance -> calcPerformance.html [ SUCCESS ]
REDIRECT:topic	 calcExternalPerformance -> calcPerformance.html [ SUCCESS ]
REDIRECT:topic	 calcCVperformance -> calcPerformance.html [ SUCCESS ]
REDIRECT:topic	 calcExternalPerformance,factor,factor-method -> calcPerformance.html [ SUCCESS ]
REDIRECT:topic	 calcCVperformance,ClassifyResult-method -> calcPerformance.html [ SUCCESS ]
    characterOrDataFrame-class              html  
REDIRECT:topic	 characterOrDataFrame -> characterOrDataFrame-class.html [ SUCCESS ]
REDIRECT:topic	 characterOrDataFrame-class -> characterOrDataFrame-class.html [ SUCCESS ]
    classifyInterface                       html  
REDIRECT:topic	 classifyInterface -> classifyInterface.html [ SUCCESS ]
REDIRECT:topic	 classifyInterface,matrix-method -> classifyInterface.html [ SUCCESS ]
REDIRECT:topic	 classifyInterface,DataFrame-method -> classifyInterface.html [ SUCCESS ]
REDIRECT:topic	 classifyInterface,MultiAssayExperiment-method -> classifyInterface.html [ SUCCESS ]
    differentMeansSelection                 html  
REDIRECT:topic	 differentMeansSelection -> differentMeansSelection.html [ SUCCESS ]
REDIRECT:topic	 differentMeansSelection,matrix-method -> differentMeansSelection.html [ SUCCESS ]
REDIRECT:topic	 differentMeansSelection,DataFrame-method -> differentMeansSelection.html [ SUCCESS ]
REDIRECT:topic	 differentMeansSelection,MultiAssayExperiment-method -> differentMeansSelection.html [ SUCCESS ]
    distribution                            html  
REDIRECT:topic	 distribution -> distribution.html [ SUCCESS ]
REDIRECT:topic	 distribution,ClassifyResult-method -> distribution.html [ SUCCESS ]
    dlda-class                              html  
REDIRECT:topic	 dlda -> dlda-class.html [ SUCCESS ]
REDIRECT:topic	 dlda-class -> dlda-class.html [ SUCCESS ]
    easyHardClassifier                      html  
REDIRECT:topic	 easyHardClassifier -> easyHardClassifier.html [ SUCCESS ]
REDIRECT:topic	 easyHardClassifierTrain -> easyHardClassifier.html [ SUCCESS ]
REDIRECT:topic	 easyHardClassifierTrain,MultiAssayExperiment-method -> easyHardClassifier.html [ SUCCESS ]
REDIRECT:topic	 easyHardClassifierPredict -> easyHardClassifier.html [ SUCCESS ]
REDIRECT:topic	 easyHardClassifierPredict,EasyHardClassifier,MultiAssayExperiment-method -> easyHardClassifier.html [ SUCCESS ]
Rd warning: Previous alias or file overwritten by alias: easyHardClassifier
    easyHardFeatures                        html  
REDIRECT:topic	 easyHardFeatures -> easyHardFeatures.html [ SUCCESS ]
REDIRECT:topic	 easyHardFeatures,EasyHardClassifier-method -> easyHardFeatures.html [ SUCCESS ]
    edgeRselection                          html  
REDIRECT:topic	 edgeRselection -> edgeRselection.html [ SUCCESS ]
REDIRECT:topic	 edgeRselection,matrix-method -> edgeRselection.html [ SUCCESS ]
REDIRECT:topic	 edgeRselection,DataFrame-method -> edgeRselection.html [ SUCCESS ]
REDIRECT:topic	 edgeRselection,MultiAssayExperiment-method -> edgeRselection.html [ SUCCESS ]
    edgesToHubNetworks                      html  
REDIRECT:topic	 edgesToHubNetworks -> edgesToHubNetworks.html [ SUCCESS ]
    elasticNetFeatures                      html  
REDIRECT:topic	 elasticNetFeatures -> elasticNetFeatures.html [ SUCCESS ]
REDIRECT:topic	 elasticNetFeatures,multnet-method -> elasticNetFeatures.html [ SUCCESS ]
    elasticNetGLMinterface                  html  
REDIRECT:topic	 elasticNetGLMinterface -> elasticNetGLMinterface.html [ SUCCESS ]
REDIRECT:topic	 elasticNetGLMtrainInterface -> elasticNetGLMinterface.html [ SUCCESS ]
REDIRECT:topic	 elasticNetGLMpredictInterface -> elasticNetGLMinterface.html [ SUCCESS ]
REDIRECT:topic	 elasticNetGLMtrainInterface,matrix-method -> elasticNetGLMinterface.html [ SUCCESS ]
REDIRECT:topic	 elasticNetGLMtrainInterface,DataFrame-method -> elasticNetGLMinterface.html [ SUCCESS ]
REDIRECT:topic	 elasticNetGLMtrainInterface,MultiAssayExperiment-method -> elasticNetGLMinterface.html [ SUCCESS ]
REDIRECT:topic	 elasticNetGLMpredictInterface,multnet,matrix-method -> elasticNetGLMinterface.html [ SUCCESS ]
REDIRECT:topic	 elasticNetGLMpredictInterface,multnet,DataFrame-method -> elasticNetGLMinterface.html [ SUCCESS ]
REDIRECT:topic	 elasticNetGLMpredictInterface,multnet,MultiAssayExperiment-method -> elasticNetGLMinterface.html [ SUCCESS ]
    featureSetSummary                       html  
REDIRECT:topic	 featureSetSummary -> featureSetSummary.html [ SUCCESS ]
REDIRECT:topic	 featureSetSummary,matrix-method -> featureSetSummary.html [ SUCCESS ]
REDIRECT:topic	 featureSetSummary,DataFrame-method -> featureSetSummary.html [ SUCCESS ]
REDIRECT:topic	 featureSetSummary,MultiAssayExperiment-method -> featureSetSummary.html [ SUCCESS ]
    fisherDiscriminant                      html  
REDIRECT:topic	 fisherDiscriminant -> fisherDiscriminant.html [ SUCCESS ]
REDIRECT:topic	 fisherDiscriminant,matrix-method -> fisherDiscriminant.html [ SUCCESS ]
REDIRECT:topic	 fisherDiscriminant,DataFrame-method -> fisherDiscriminant.html [ SUCCESS ]
REDIRECT:topic	 fisherDiscriminant,MultiAssayExperiment-method -> fisherDiscriminant.html [ SUCCESS ]
    forestFeatures                          html  
REDIRECT:topic	 forestFeatures -> forestFeatures.html [ SUCCESS ]
REDIRECT:topic	 forestFeatures,randomForest-method -> forestFeatures.html [ SUCCESS ]
    functionOrList-class                    html  
REDIRECT:topic	 functionOrList -> functionOrList-class.html [ SUCCESS ]
REDIRECT:topic	 functionOrList-class -> functionOrList-class.html [ SUCCESS ]
    functionOrNULL-class                    html  
REDIRECT:topic	 functionOrNULL -> functionOrNULL-class.html [ SUCCESS ]
REDIRECT:topic	 functionOrNULL-class -> functionOrNULL-class.html [ SUCCESS ]
    getLocationsAndScales                   html  
REDIRECT:topic	 getLocationsAndScales -> getLocationsAndScales.html [ SUCCESS ]
REDIRECT:topic	 getLocationsAndScales,matrix-method -> getLocationsAndScales.html [ SUCCESS ]
REDIRECT:topic	 getLocationsAndScales,DataFrame-method -> getLocationsAndScales.html [ SUCCESS ]
REDIRECT:topic	 getLocationsAndScales,MultiAssayExperiment-method -> getLocationsAndScales.html [ SUCCESS ]
    integerOrNumeric-class                  html  
REDIRECT:topic	 integerOrNumeric -> integerOrNumeric-class.html [ SUCCESS ]
REDIRECT:topic	 integerOrNumeric-class -> integerOrNumeric-class.html [ SUCCESS ]
    interactorDifferences                   html  
REDIRECT:topic	 interactorDifferences -> interactorDifferences.html [ SUCCESS ]
REDIRECT:topic	 interactorDifferences,matrix-method -> interactorDifferences.html [ SUCCESS ]
REDIRECT:topic	 interactorDifferences,DataFrame-method -> interactorDifferences.html [ SUCCESS ]
REDIRECT:topic	 interactorDifferences,MultiAssayExperiment-method -> interactorDifferences.html [ SUCCESS ]
    kTSPclassifier                          html  
REDIRECT:topic	 kTSPclassifier -> kTSPclassifier.html [ SUCCESS ]
REDIRECT:topic	 kTSPclassifier,matrix-method -> kTSPclassifier.html [ SUCCESS ]
REDIRECT:topic	 kTSPclassifier,DataFrame-method -> kTSPclassifier.html [ SUCCESS ]
REDIRECT:topic	 kTSPclassifier,MultiAssayExperiment-method -> kTSPclassifier.html [ SUCCESS ]
    knnInterface                            html  
REDIRECT:topic	 kNNinterface -> knnInterface.html [ SUCCESS ]
REDIRECT:topic	 kNNinterface,matrix-method -> knnInterface.html [ SUCCESS ]
REDIRECT:topic	 kNNinterface,DataFrame-method -> knnInterface.html [ SUCCESS ]
REDIRECT:topic	 kNNinterface,MultiAssayExperiment-method -> knnInterface.html [ SUCCESS ]
    leveneSelection                         html  
REDIRECT:topic	 leveneSelection -> leveneSelection.html [ SUCCESS ]
REDIRECT:topic	 leveneSelection,matrix-method -> leveneSelection.html [ SUCCESS ]
REDIRECT:topic	 leveneSelection,DataFrame-method -> leveneSelection.html [ SUCCESS ]
REDIRECT:topic	 leveneSelection,MultiAssayExperiment-method -> leveneSelection.html [ SUCCESS ]
    likelihoodRatioSelection                html  
REDIRECT:topic	 likelihoodRatioSelection -> likelihoodRatioSelection.html [ SUCCESS ]
REDIRECT:topic	 likelihoodRatioSelection,matrix-method -> likelihoodRatioSelection.html [ SUCCESS ]
REDIRECT:topic	 likelihoodRatioSelection,DataFrame-method -> likelihoodRatioSelection.html [ SUCCESS ]
REDIRECT:topic	 likelihoodRatioSelection,MultiAssayExperiment-method -> likelihoodRatioSelection.html [ SUCCESS ]
    limmaSelection                          html  
REDIRECT:topic	 limmaSelection -> limmaSelection.html [ SUCCESS ]
REDIRECT:topic	 limmaSelection,matrix-method -> limmaSelection.html [ SUCCESS ]
REDIRECT:topic	 limmaSelection,DataFrame-method -> limmaSelection.html [ SUCCESS ]
REDIRECT:topic	 limmaSelection,MultiAssayExperiment-method -> limmaSelection.html [ SUCCESS ]
    listOrCharacterOrNULL-class             html  
REDIRECT:topic	 listOrCharacterOrNULL -> listOrCharacterOrNULL-class.html [ SUCCESS ]
REDIRECT:topic	 listOrCharacterOrNULL-class -> listOrCharacterOrNULL-class.html [ SUCCESS ]
    listOrNULL-class                        html  
REDIRECT:topic	 listOrNULL -> listOrNULL-class.html [ SUCCESS ]
REDIRECT:topic	 listOrNULL-class -> listOrNULL-class.html [ SUCCESS ]
    mixmodels                               html  
REDIRECT:topic	 mixmodels -> mixmodels.html [ SUCCESS ]
REDIRECT:topic	 mixModelsTrain -> mixmodels.html [ SUCCESS ]
REDIRECT:topic	 mixModelsTrain,matrix-method -> mixmodels.html [ SUCCESS ]
REDIRECT:topic	 mixModelsTrain,DataFrame-method -> mixmodels.html [ SUCCESS ]
REDIRECT:topic	 mixModelsTrain,MultiAssayExperiment-method -> mixmodels.html [ SUCCESS ]
REDIRECT:topic	 mixModelsPredict -> mixmodels.html [ SUCCESS ]
REDIRECT:topic	 mixModelsPredict,MixModelsListsSet,matrix-method -> mixmodels.html [ SUCCESS ]
REDIRECT:topic	 mixModelsPredict,MixModelsListsSet,DataFrame-method -> mixmodels.html [ SUCCESS ]
REDIRECT:topic	 mixModelsPredict,MixModelsListsSet,MultiAssayExperiment-method -> mixmodels.html [ SUCCESS ]
    multnet-class                           html  
REDIRECT:topic	 multnet -> multnet-class.html [ SUCCESS ]
REDIRECT:topic	 multnet-class -> multnet-class.html [ SUCCESS ]
    naiveBayesKernel                        html  
REDIRECT:topic	 naiveBayesKernel -> naiveBayesKernel.html [ SUCCESS ]
REDIRECT:topic	 naiveBayesKernel,matrix-method -> naiveBayesKernel.html [ SUCCESS ]
REDIRECT:topic	 naiveBayesKernel,DataFrame-method -> naiveBayesKernel.html [ SUCCESS ]
REDIRECT:topic	 naiveBayesKernel,MultiAssayExperiment-method -> naiveBayesKernel.html [ SUCCESS ]
    networkCorrelationsSelection            html  
REDIRECT:topic	 networkCorrelationsSelection -> networkCorrelationsSelection.html [ SUCCESS ]
REDIRECT:topic	 networkCorrelationsSelection,matrix-method -> networkCorrelationsSelection.html [ SUCCESS ]
REDIRECT:topic	 networkCorrelationsSelection,DataFrame-method -> networkCorrelationsSelection.html [ SUCCESS ]
REDIRECT:topic	 networkCorrelationsSelection,MultiAssayExperiment-method -> networkCorrelationsSelection.html [ SUCCESS ]
    pairsDifferencesSelection               html  
REDIRECT:topic	 pairsDifferencesSelection -> pairsDifferencesSelection.html [ SUCCESS ]
REDIRECT:topic	 pairsDifferencesSelection,matrix-method -> pairsDifferencesSelection.html [ SUCCESS ]
REDIRECT:topic	 pairsDifferencesSelection,DataFrame-method -> pairsDifferencesSelection.html [ SUCCESS ]
REDIRECT:topic	 pairsDifferencesSelection,MultiAssayExperiment-method -> pairsDifferencesSelection.html [ SUCCESS ]
    pamrtrained-class                       html  
REDIRECT:topic	 pamrtrained -> pamrtrained-class.html [ SUCCESS ]
REDIRECT:topic	 pamrtrained-class -> pamrtrained-class.html [ SUCCESS ]
    performancePlot                         html  
REDIRECT:topic	 performancePlot -> performancePlot.html [ SUCCESS ]
REDIRECT:topic	 performancePlot,list-method -> performancePlot.html [ SUCCESS ]
    plotFeatureClasses                      html  
REDIRECT:topic	 plotFeatureClasses -> plotFeatureClasses.html [ SUCCESS ]
REDIRECT:topic	 plotFeatureClasses,matrix-method -> plotFeatureClasses.html [ SUCCESS ]
REDIRECT:topic	 plotFeatureClasses,DataFrame-method -> plotFeatureClasses.html [ SUCCESS ]
REDIRECT:topic	 plotFeatureClasses,MultiAssayExperiment-method -> plotFeatureClasses.html [ SUCCESS ]
    previousSelection                       html  
REDIRECT:topic	 previousSelection -> previousSelection.html [ SUCCESS ]
REDIRECT:topic	 previousSelection,matrix-method -> previousSelection.html [ SUCCESS ]
REDIRECT:topic	 previousSelection,DataFrame-method -> previousSelection.html [ SUCCESS ]
REDIRECT:topic	 previousSelection,MultiAssayExperiment-method -> previousSelection.html [ SUCCESS ]
    previousTrained                         html  
REDIRECT:topic	 previousTrained -> previousTrained.html [ SUCCESS ]
REDIRECT:topic	 previousTrained,ClassifyResult-method -> previousTrained.html [ SUCCESS ]
    randomForest-class                      html  
REDIRECT:topic	 randomForest -> randomForest-class.html [ SUCCESS ]
REDIRECT:topic	 randomForest-class -> randomForest-class.html [ SUCCESS ]
    randomForestInterface                   html  
REDIRECT:topic	 randomForestInterface -> randomForestInterface.html [ SUCCESS ]
REDIRECT:topic	 randomForestTrainInterface -> randomForestInterface.html [ SUCCESS ]
REDIRECT:topic	 randomForestTrainInterface,matrix-method -> randomForestInterface.html [ SUCCESS ]
REDIRECT:topic	 randomForestTrainInterface,DataFrame-method -> randomForestInterface.html [ SUCCESS ]
REDIRECT:topic	 randomForestTrainInterface,MultiAssayExperiment-method -> randomForestInterface.html [ SUCCESS ]
REDIRECT:topic	 randomForestPredictInterface -> randomForestInterface.html [ SUCCESS ]
REDIRECT:topic	 randomForestPredictInterface,randomForest,matrix-method -> randomForestInterface.html [ SUCCESS ]
REDIRECT:topic	 randomForestPredictInterface,randomForest,DataFrame-method -> randomForestInterface.html [ SUCCESS ]
REDIRECT:topic	 randomForestPredictInterface,randomForest,MultiAssayExperiment-method -> randomForestInterface.html [ SUCCESS ]
    rankingPlot                             html  
REDIRECT:topic	 rankingPlot -> rankingPlot.html [ SUCCESS ]
REDIRECT:topic	 rankingPlot,list-method -> rankingPlot.html [ SUCCESS ]
    runTest                                 html  
REDIRECT:topic	 runTest -> runTest.html [ SUCCESS ]
REDIRECT:topic	 runTestEasyHard -> runTest.html [ SUCCESS ]
REDIRECT:topic	 runTest,matrix-method -> runTest.html [ SUCCESS ]
REDIRECT:topic	 runTest,DataFrame-method -> runTest.html [ SUCCESS ]
REDIRECT:topic	 runTest,MultiAssayExperiment-method -> runTest.html [ SUCCESS ]
REDIRECT:topic	 runTestEasyHard,MultiAssayExperiment-method -> runTest.html [ SUCCESS ]
    runTests                                html  
REDIRECT:topic	 runTests -> runTests.html [ SUCCESS ]
REDIRECT:topic	 runTestsEasyHard -> runTests.html [ SUCCESS ]
REDIRECT:topic	 runTests,matrix-method -> runTests.html [ SUCCESS ]
REDIRECT:topic	 runTests,DataFrame-method -> runTests.html [ SUCCESS ]
REDIRECT:topic	 runTests,MultiAssayExperiment-method -> runTests.html [ SUCCESS ]
REDIRECT:topic	 runTestsEasyHard,MultiAssayExperiment-method -> runTests.html [ SUCCESS ]
    samplesMetricMap                        html  
REDIRECT:topic	 samplesMetricMap -> samplesMetricMap.html [ SUCCESS ]
REDIRECT:topic	 samplesMetricMap,list-method -> samplesMetricMap.html [ SUCCESS ]
REDIRECT:topic	 samplesMetricMap,matrix-method -> samplesMetricMap.html [ SUCCESS ]
    selectionPlot                           html  
REDIRECT:topic	 selectionPlot -> selectionPlot.html [ SUCCESS ]
REDIRECT:topic	 selectionPlot,list-method -> selectionPlot.html [ SUCCESS ]
    subtractFromLocation                    html  
REDIRECT:topic	 subtractFromLocation -> subtractFromLocation.html [ SUCCESS ]
REDIRECT:topic	 subtractFromLocation,matrix-method -> subtractFromLocation.html [ SUCCESS ]
REDIRECT:topic	 subtractFromLocation,DataFrame-method -> subtractFromLocation.html [ SUCCESS ]
REDIRECT:topic	 subtractFromLocation,MultiAssayExperiment-method -> subtractFromLocation.html [ SUCCESS ]
    svm-class                               html  
REDIRECT:topic	 svm -> svm-class.html [ SUCCESS ]
REDIRECT:topic	 svm-class -> svm-class.html [ SUCCESS ]
** building package indices
** installing vignettes
** testing if installed package can be loaded from temporary location
** testing if installed package can be loaded from final location
** testing if installed package keeps a record of temporary installation path

install for x64

* installing *source* package 'ClassifyR' ...
** testing if installed package can be loaded
* MD5 sums
packaged installation of 'ClassifyR' as ClassifyR_2.11.0.zip
* DONE (ClassifyR)