Back to Multiple platform build/check report for BioC 3.13
AB[C]DEFGHIJKLMNOPQRSTUVWXYZ

BUILD report for ClassifyR on machv2

This page was generated on 2021-01-18 13:03:41 -0500 (Mon, 18 Jan 2021).

TO THE DEVELOPERS/MAINTAINERS OF THE ClassifyR PACKAGE: Please make sure to use the following settings in order to reproduce any error or warning you see on this page.
Package 306/1931HostnameOS / ArchINSTALLBUILDCHECKBUILD BIN
ClassifyR 2.11.0
Dario Strbenac
Snapshot Date: 2021-01-17 14:40:31 -0500 (Sun, 17 Jan 2021)
URL: https://git.bioconductor.org/packages/ClassifyR
Branch: master
Last Commit: e4a0740
Last Changed Date: 2020-10-27 10:58:03 -0500 (Tue, 27 Oct 2020)
malbec2 Linux (Ubuntu 20.04.1 LTS) / x86_64  OK  OK  OK UNNEEDED, same version exists in internal repository
tokay2 Windows Server 2012 R2 Standard / x64  OK  OK  WARNINGS  OK UNNEEDED, same version exists in internal repository
riesling1 Windows Server 2019 Standard / x64  OK  OK  WARNINGS  OK 
machv2 macOS 10.14.6 Mojave / x86_64  OK [ OK ] OK  OK UNNEEDED, same version exists in internal repository

Summary

Package: ClassifyR
Version: 2.11.0
Command: /Library/Frameworks/R.framework/Versions/Current/Resources/bin/R CMD build --keep-empty-dirs --no-resave-data ClassifyR
StartedAt: 2021-01-17 18:09:42 -0500 (Sun, 17 Jan 2021)
EndedAt: 2021-01-17 18:20:13 -0500 (Sun, 17 Jan 2021)
EllapsedTime: 630.6 seconds
RetCode: 0
Status:  OK 
PackageFile: ClassifyR_2.11.0.tar.gz
PackageFileSize: 1.385 MiB

Command output

##############################################################################
##############################################################################
###
### Running command:
###
###   /Library/Frameworks/R.framework/Versions/Current/Resources/bin/R CMD build --keep-empty-dirs --no-resave-data ClassifyR
###
##############################################################################
##############################################################################


* checking for file ‘ClassifyR/DESCRIPTION’ ... OK
* preparing ‘ClassifyR’:
* checking DESCRIPTION meta-information ... OK
* installing the package to build vignettes
* creating vignettes ... OK
* checking for LF line-endings in source and make files and shell scripts
* checking for empty or unneeded directories
* looking to see if a ‘data/datalist’ file should be added
* building ‘ClassifyR_2.11.0.tar.gz’