Back to Multiple platform build/check report for BioC 3.13
AB[C]DEFGHIJKLMNOPQRSTUVWXYZ

BUILD BIN report for ClassifyR on machv2

This page was generated on 2021-01-18 13:03:41 -0500 (Mon, 18 Jan 2021).

TO THE DEVELOPERS/MAINTAINERS OF THE ClassifyR PACKAGE: Please make sure to use the following settings in order to reproduce any error or warning you see on this page.
Package 306/1931HostnameOS / ArchINSTALLBUILDCHECKBUILD BIN
ClassifyR 2.11.0
Dario Strbenac
Snapshot Date: 2021-01-17 14:40:31 -0500 (Sun, 17 Jan 2021)
URL: https://git.bioconductor.org/packages/ClassifyR
Branch: master
Last Commit: e4a0740
Last Changed Date: 2020-10-27 10:58:03 -0500 (Tue, 27 Oct 2020)
malbec2 Linux (Ubuntu 20.04.1 LTS) / x86_64  OK  OK  OK UNNEEDED, same version exists in internal repository
tokay2 Windows Server 2012 R2 Standard / x64  OK  OK  WARNINGS  OK UNNEEDED, same version exists in internal repository
riesling1 Windows Server 2019 Standard / x64  OK  OK  WARNINGS  OK 
machv2 macOS 10.14.6 Mojave / x86_64  OK  OK  OK [ OK ]UNNEEDED, same version exists in internal repository

Summary

Package: ClassifyR
Version: 2.11.0
Command: rm -rf ClassifyR.buildbin-libdir && mkdir ClassifyR.buildbin-libdir && /Users/biocbuild/BBS/utils/build-universal.sh ClassifyR_2.11.0.tar.gz /Library/Frameworks/R.framework/Versions/Current/Resources/bin/R ClassifyR.buildbin-libdir
StartedAt: 2021-01-18 05:51:11 -0500 (Mon, 18 Jan 2021)
EndedAt: 2021-01-18 05:51:45 -0500 (Mon, 18 Jan 2021)
EllapsedTime: 33.9 seconds
RetCode: 0
Status:  OK 
PackageFile: ClassifyR_2.11.0.tgz
PackageFileSize: 1.929 MiB

Command output

##############################################################################
##############################################################################
###
### Running command:
###
###   rm -rf ClassifyR.buildbin-libdir && mkdir ClassifyR.buildbin-libdir && /Users/biocbuild/BBS/utils/build-universal.sh ClassifyR_2.11.0.tar.gz /Library/Frameworks/R.framework/Versions/Current/Resources/bin/R ClassifyR.buildbin-libdir
###
##############################################################################
##############################################################################


>>>>>>> 
>>>>>>> INSTALLATION WITH 'R CMD INSTALL --preclean --no-multiarch --library=ClassifyR.buildbin-libdir ClassifyR_2.11.0.tar.gz'
>>>>>>> 

* installing *source* package ‘ClassifyR’ ...
** using staged installation
** R
** data
** inst
** byte-compile and prepare package for lazy loading
** help
*** installing help indices
** building package indices
** installing vignettes
** testing if installed package can be loaded from temporary location
** testing if installed package can be loaded from final location
** testing if installed package keeps a record of temporary installation path
* DONE (ClassifyR)