Back to Multiple platform build/check report for BioC 3.14
AB[C]DEFGHIJKLMNOPQRSTUVWXYZ

This page was generated on 2021-10-23 14:06:21 -0400 (Sat, 23 Oct 2021).

BUILD BIN results for CiteFuse on riesling1

To the developers/maintainers of the CiteFuse package:
- Please allow up to 24 hours (and sometimes 48 hours) for your latest push to git@git.bioconductor.org:packages/CiteFuse.git to
reflect on this report. See How and When does the builder pull? When will my changes propagate? here for more information.
- Make sure to use the following settings in order to reproduce any error or warning you see on this page.

raw results

Package 323/2083HostnameOS / ArchINSTALLBUILDCHECKBUILD BIN
CiteFuse 1.5.0  (landing page)
Yingxin Lin
Snapshot Date: 2021-10-22 14:50:11 -0400 (Fri, 22 Oct 2021)
git_url: https://git.bioconductor.org/packages/CiteFuse
git_branch: master
git_last_commit: 0acf29f
git_last_commit_date: 2021-05-19 12:51:31 -0400 (Wed, 19 May 2021)
nebbiolo2Linux (Ubuntu 20.04.2 LTS) / x86_64  OK    OK    OK  UNNEEDED, same version is already published
riesling1Windows Server 2019 Standard / x64  OK    OK    OK    OK  UNNEEDED, same version is already published
merida1macOS 10.14.6 Mojave / x86_64  OK    OK    OK    OK  UNNEEDED, same version is already published

Summary

Package: CiteFuse
Version: 1.5.0
Command: rm -rf CiteFuse.buildbin-libdir && mkdir CiteFuse.buildbin-libdir && D:\biocbuild\bbs-3.14-bioc\R\bin\R.exe CMD INSTALL --merge-multiarch --build --library=CiteFuse.buildbin-libdir CiteFuse_1.5.0.tar.gz
StartedAt: 2021-10-23 10:05:33 -0400 (Sat, 23 Oct 2021)
EndedAt: 2021-10-23 10:09:37 -0400 (Sat, 23 Oct 2021)
EllapsedTime: 244.4 seconds
RetCode: 0
Status:   OK  
PackageFile: CiteFuse_1.5.0.zip
PackageFileSize: 2.559 MiB

Command output

##############################################################################
##############################################################################
###
### Running command:
###
###   rm -rf CiteFuse.buildbin-libdir && mkdir CiteFuse.buildbin-libdir && D:\biocbuild\bbs-3.14-bioc\R\bin\R.exe CMD INSTALL --merge-multiarch --build --library=CiteFuse.buildbin-libdir CiteFuse_1.5.0.tar.gz
###
##############################################################################
##############################################################################



install for i386

* installing *source* package 'CiteFuse' ...
** using staged installation
** R
** data
** inst
** byte-compile and prepare package for lazy loading
** help
*** installing help indices
  converting help for package 'CiteFuse'
    finding HTML links ... done
    CITEseq_example                         html  
    CiteFuse                                html  
    DEbubblePlot                            html  
    DEcomparisonPlot                        html  
    DEgenes                                 html  
    DEgenesCross                            html  
    crossSampleDoublets                     html  
    geneADTnetwork                          html  
    igraphClustering                        html  
    importanceADT                           html  
    ligandReceptorTest                      html  
    lr_pair_subset                          html  
    normaliseExprs                          html  
    plotHTO                                 html  
    plotHTOSingle                           html  
    preprocessing                           html  
    readFrom10X                             html  
    reducedDimSNF                           html  
    sce_control_subset                      html  
    sce_ctcl_subset                         html  
    selectDEgenes                           html  
    spectralClustering                      html  
    visImportance                           html  
    visLigandReceptor                       html  
    visualiseDim                            html  
    visualiseExprs                          html  
    visualiseExprsList                      html  
    visualiseKNN                            html  
    withinSampleDoublets                    html  
** building package indices
** installing vignettes
** testing if installed package can be loaded from temporary location
** testing if installed package can be loaded from final location
** testing if installed package keeps a record of temporary installation path

install for x64

* installing *source* package 'CiteFuse' ...
** testing if installed package can be loaded
* MD5 sums
packaged installation of 'CiteFuse' as CiteFuse_1.5.0.zip
* DONE (CiteFuse)