Name | Last modified | Size | Description | |
---|---|---|---|---|
Parent Directory | - | |||
install-out.txt | 18-Jul-2024 00:39 | 2.1K | ||
install-summary.dcf | 18-Jul-2024 00:39 | 270 | ||
buildsrc-summary.dcf | 18-Jul-2024 00:39 | 457 | ||
buildsrc-out.txt | 18-Jul-2024 00:39 | 936 | ||
checksrc-out.txt | 18-Jul-2024 00:39 | 4.0K | ||
checksrc-summary.dcf | 18-Jul-2024 00:39 | 451 | ||
buildbin-out.txt | 18-Jul-2024 00:39 | 2.3K | ||
buildbin-summary.dcf | 18-Jul-2024 00:39 | 521 | ||