Name | Last modified | Size | Description | |
---|---|---|---|---|
Parent Directory | - | |||
buildbin-out.txt | 17-Jul-2024 00:40 | 2.3K | ||
buildbin-summary.dcf | 17-Jul-2024 00:40 | 527 | ||
buildsrc-out.txt | 17-Jul-2024 00:40 | 942 | ||
buildsrc-summary.dcf | 17-Jul-2024 00:40 | 463 | ||
checksrc-out.txt | 17-Jul-2024 00:40 | 4.0K | ||
checksrc-summary.dcf | 17-Jul-2024 00:40 | 463 | ||
install-out.txt | 17-Jul-2024 00:40 | 2.2K | ||
install-summary.dcf | 17-Jul-2024 00:40 | 276 | ||