Index of /checkResults/devel/bioc-LATEST/CircSeqAlignTk/raw-results/palomino8
Name
Last modified
Size
Description
Parent Directory
-
buildsrc-out.txt
28-Jul-2024 00:39
968
buildsrc-summary.dcf
28-Jul-2024 00:39
387
install-out.txt
28-Jul-2024 00:39
640
install-summary.dcf
28-Jul-2024 00:39
283