Index of /checkResults/devel/bioc-LATEST/CircSeqAlignTk/raw-results/palomino6
Name
Last modified
Size
Description
Parent Directory
-
buildsrc-out.txt
17-Jul-2024 00:40
1.0K
install-out.txt
17-Jul-2024 00:40
658
buildsrc-summary.dcf
17-Jul-2024 00:40
393
install-summary.dcf
17-Jul-2024 00:40
289