Index of /checkResults/devel/bioc-LATEST/CircSeqAlignTk/raw-results/palomino4
Name
Last modified
Size
Description
Parent Directory
-
buildsrc-summary.dcf
12-Jun-2024 04:40
387
buildsrc-out.txt
12-Jun-2024 04:40
968
install-summary.dcf
12-Jun-2024 04:40
283
install-out.txt
12-Jun-2024 04:40
640