Name | Last modified | Size | Description | |
---|---|---|---|---|
Parent Directory | - | |||
install-summary.dcf | 28-Jul-2024 00:38 | 272 | ||
install-out.txt | 28-Jul-2024 00:38 | 1.0K | ||
checksrc-summary.dcf | 28-Jul-2024 00:38 | 440 | ||
checksrc-out.txt | 28-Jul-2024 00:38 | 3.3K | ||
buildsrc-summary.dcf | 28-Jul-2024 00:38 | 442 | ||
buildsrc-out.txt | 28-Jul-2024 00:38 | 857 | ||