Back to Multiple platform build/check report for BioC 3.14
AB[C]DEFGHIJKLMNOPQRSTUVWXYZ

This page was generated on 2021-10-18 12:04:00 -0400 (Mon, 18 Oct 2021).

BUILD results for ChromSCape on riesling1

To the developers/maintainers of the ChromSCape package:
- Please allow up to 24 hours (and sometimes 48 hours) for your latest push to git@git.bioconductor.org:packages/ChromSCape.git to
reflect on this report. See How and When does the builder pull? When will my changes propagate? here for more information.
- Make sure to use the following settings in order to reproduce any error or warning you see on this page.

raw results

Package 307/2060HostnameOS / ArchINSTALLBUILDCHECKBUILD BIN
ChromSCape 1.3.22  (landing page)
Pacome Prompsy
Snapshot Date: 2021-10-17 14:50:03 -0400 (Sun, 17 Oct 2021)
git_url: https://git.bioconductor.org/packages/ChromSCape
git_branch: master
git_last_commit: 8f4b09e
git_last_commit_date: 2021-09-28 04:52:10 -0400 (Tue, 28 Sep 2021)
nebbiolo2Linux (Ubuntu 20.04.2 LTS) / x86_64  OK    OK    OK  UNNEEDED, same version is already published
riesling1Windows Server 2019 Standard / x64  OK    OK    OK    OK  UNNEEDED, same version is already published
merida1macOS 10.14.6 Mojave / x86_64  OK    OK    OK    OK  UNNEEDED, same version is already published

Summary

Package: ChromSCape
Version: 1.3.22
Command: chmod a+r ChromSCape -R && D:\biocbuild\bbs-3.14-bioc\R\bin\R.exe CMD build --keep-empty-dirs --no-resave-data ChromSCape
StartedAt: 2021-10-17 20:04:43 -0400 (Sun, 17 Oct 2021)
EndedAt: 2021-10-17 20:09:17 -0400 (Sun, 17 Oct 2021)
EllapsedTime: 273.8 seconds
RetCode: 0
Status:   OK  
PackageFile: ChromSCape_1.3.22.tar.gz
PackageFileSize: 5.186 MiB

Command output

##############################################################################
##############################################################################
###
### Running command:
###
###   chmod a+r ChromSCape -R && D:\biocbuild\bbs-3.14-bioc\R\bin\R.exe CMD build --keep-empty-dirs --no-resave-data ChromSCape
###
##############################################################################
##############################################################################


* checking for file 'ChromSCape/DESCRIPTION' ... OK
* preparing 'ChromSCape':
* checking DESCRIPTION meta-information ... OK
* cleaning src
* installing the package to build vignettes
* creating vignettes ... OK
* cleaning src
* checking for LF line-endings in source and make files and shell scripts
* checking for empty or unneeded directories
* looking to see if a 'data/datalist' file should be added
* building 'ChromSCape_1.3.22.tar.gz'