Back to Multiple platform build/check report for BioC 3.15
AB[C]DEFGHIJKLMNOPQRSTUVWXYZ

This page was generated on 2022-01-19 11:07:23 -0500 (Wed, 19 Jan 2022).

HostnameOSArch (*)R versionInstalled pkgs
nebbiolo1Linux (Ubuntu 20.04.4 LTS)x86_64R Under development (unstable) (2022-01-05 r81451) -- "Unsuffered Consequences" 4161
riesling1Windows Server 2019 Standardx64R Under development (unstable) (2021-11-21 r81221) -- "Unsuffered Consequences" 4056
palomino3Windows Server 2022 Datacenterx64R Under development (unstable) (2021-12-21 r81400 ucrt) -- "Unsuffered Consequences" 3998
merida1macOS 10.14.6 Mojavex86_64R Under development (unstable) (2022-01-05 r81451) -- "Unsuffered Consequences" 4115
Click on any hostname to see more info about the system (e.g. compilers)      (*) as reported by 'uname -p', except on Windows and Mac OS X

INSTALL results for ChromHeatMap on riesling1


To the developers/maintainers of the ChromHeatMap package:
- Please allow up to 24 hours (and sometimes 48 hours) for your latest push to git@git.bioconductor.org:packages/ChromHeatMap.git to
reflect on this report. See How and When does the builder pull? When will my changes propagate? here for more information.
- Make sure to use the following settings in order to reproduce any error or warning you see on this page.

raw results

Package 308/2074HostnameOS / ArchINSTALLBUILDCHECKBUILD BIN
ChromHeatMap 1.49.0  (landing page)
Tim F. Rayner
Snapshot Date: 2022-01-18 13:55:18 -0500 (Tue, 18 Jan 2022)
git_url: https://git.bioconductor.org/packages/ChromHeatMap
git_branch: master
git_last_commit: 6b6da2c
git_last_commit_date: 2021-10-26 11:54:52 -0500 (Tue, 26 Oct 2021)
nebbiolo1Linux (Ubuntu 20.04.4 LTS) / x86_64  OK    OK    OK  UNNEEDED, same version is already published
riesling1Windows Server 2019 Standard / x64  OK    OK    OK    OK  
palomino3Windows Server 2022 Datacenter / x64  OK    OK    OK    OK  NO, package depends on 'BiocGenerics' which is not available
merida1macOS 10.14.6 Mojave / x86_64  OK    OK    OK    OK  UNNEEDED, same version is already published

Summary

Package: ChromHeatMap
Version: 1.49.0
Command: D:\biocbuild\bbs-3.15-bioc\R\bin\R.exe CMD INSTALL ChromHeatMap
StartedAt: 2022-01-18 15:57:56 -0500 (Tue, 18 Jan 2022)
EndedAt: 2022-01-18 15:59:03 -0500 (Tue, 18 Jan 2022)
EllapsedTime: 66.5 seconds
RetCode: 0
Status:   OK  

Command output

##############################################################################
##############################################################################
###
### Running command:
###
###   D:\biocbuild\bbs-3.15-bioc\R\bin\R.exe CMD INSTALL ChromHeatMap
###
##############################################################################
##############################################################################


* installing to library 'D:/biocbuild/bbs-3.15-bioc/R/library'
* installing *source* package 'ChromHeatMap' ...
** using staged installation
** R
** data
** byte-compile and prepare package for lazy loading
** help
*** installing help indices
  converting help for package 'ChromHeatMap'
    finding HTML links ... done
    ALLs.chr22                              html  
    ChrMapPlot-class                        html  
    ChrStrandData-class                     html  
    ChrStrandMatrix-class                   html  
    chrHeatMap                              html  
    chrNames                                html  
    chrdata                                 html  
    createChrMatrix                         html  
    cytobands                               html  
    drawMapDendro                           html  
    grabChrMapProbes                        html  
    makeChrStrandData-methods               html  
    makeChrStrandData                       html  
    makeRangedDataList                      html  
    plotChrMap                              html  
    stains                                  html  
    strandName                              html  
** building package indices
** installing vignettes
** testing if installed package can be loaded from temporary location
** testing if installed package can be loaded from final location
** testing if installed package keeps a record of temporary installation path
* DONE (ChromHeatMap)
Making 'packages.html' ... done