Index of /checkResults/devel/bioc-LATEST/ChemmineR/raw-results
Name
Last modified
Size
Description
Parent Directory
-
info.dcf
11-May-2024 00:35
268
nebbiolo2/
11-May-2024 00:36
-
palomino4/
11-May-2024 00:36
-
merida1/
11-May-2024 00:37
-