Name | Last modified | Size | Description | |
---|---|---|---|---|
Parent Directory | - | |||
install-summary.dcf | 28-Jul-2024 00:39 | 270 | ||
install-out.txt | 28-Jul-2024 00:39 | 1.7K | ||
checksrc-summary.dcf | 28-Jul-2024 00:39 | 451 | ||
checksrc-out.txt | 28-Jul-2024 00:39 | 5.3K | ||
buildsrc-summary.dcf | 28-Jul-2024 00:39 | 457 | ||
buildsrc-out.txt | 28-Jul-2024 00:39 | 876 | ||
buildbin-summary.dcf | 28-Jul-2024 00:39 | 520 | ||
buildbin-out.txt | 28-Jul-2024 00:39 | 1.8K | ||