Name | Last modified | Size | Description | |
---|---|---|---|---|
Parent Directory | - | |||
install-out.txt | 27-Jul-2024 00:40 | 1.9K | ||
install-summary.dcf | 27-Jul-2024 00:40 | 271 | ||
buildsrc-summary.dcf | 27-Jul-2024 00:40 | 430 | ||
buildsrc-out.txt | 27-Jul-2024 00:40 | 850 | ||
checksrc-out.txt | 27-Jul-2024 00:40 | 4.8K | ||
checksrc-summary.dcf | 27-Jul-2024 00:40 | 448 | ||
buildbin-out.txt | 27-Jul-2024 00:40 | 3.8K | ||
buildbin-summary.dcf | 27-Jul-2024 00:40 | 536 | ||