Index of /checkResults/devel/bioc-LATEST/ChIPseqR/raw-results/lconway

[ICO]NameLast modifiedSizeDescription

[DIR]Parent Directory  -  
[TXT]buildbin-out.txt02-Jul-2022 00:07 2.6K 
[   ]buildbin-summary.dcf02-Jul-2022 00:07 536  
[TXT]buildsrc-out.txt02-Jul-2022 00:07 850  
[   ]buildsrc-summary.dcf02-Jul-2022 00:07 430  
[TXT]checksrc-out.txt02-Jul-2022 00:07 4.6K 
[   ]checksrc-summary.dcf02-Jul-2022 00:07 448  
[TXT]install-out.txt02-Jul-2022 00:07 1.8K 
[   ]install-summary.dcf02-Jul-2022 00:07 271