Name | Last modified | Size | Description | |
---|---|---|---|---|
Parent Directory | - | |||
buildbin-summary.dcf | 28-Jul-2024 00:42 | 536 | ||
buildbin-out.txt | 28-Jul-2024 00:42 | 3.7K | ||
checksrc-summary.dcf | 28-Jul-2024 00:42 | 447 | ||
checksrc-out.txt | 28-Jul-2024 00:42 | 4.6K | ||
buildsrc-summary.dcf | 28-Jul-2024 00:42 | 430 | ||
buildsrc-out.txt | 28-Jul-2024 00:42 | 850 | ||
install-summary.dcf | 28-Jul-2024 00:42 | 271 | ||
install-out.txt | 28-Jul-2024 00:42 | 1.8K | ||