Index of /checkResults/devel/bioc-LATEST/ChIPseeker/raw-results/nebbiolo2

[ICO]NameLast modifiedSizeDescription

[DIR]Parent Directory  -  
[TXT]install-out.txt07-Aug-2022 00:04 964  
[   ]install-summary.dcf07-Aug-2022 00:04 265  
[TXT]buildsrc-out.txt07-Aug-2022 00:04 881  
[   ]buildsrc-summary.dcf07-Aug-2022 00:04 427  
[TXT]checksrc-out.txt07-Aug-2022 00:04 3.5K 
[   ]checksrc-summary.dcf07-Aug-2022 00:04 437