![]() | Name | Last modified | Size | Description |
---|---|---|---|---|
![]() | Parent Directory | - | ||
![]() | buildsrc-out.txt | 02-Jul-2022 00:04 | 881 | |
![]() | buildsrc-summary.dcf | 02-Jul-2022 00:04 | 427 | |
![]() | checksrc-out.txt | 02-Jul-2022 00:04 | 3.5K | |
![]() | checksrc-summary.dcf | 02-Jul-2022 00:04 | 437 | |
![]() | install-out.txt | 02-Jul-2022 00:04 | 964 | |
![]() | install-summary.dcf | 02-Jul-2022 00:04 | 265 | |