Index of /checkResults/devel/bioc-LATEST/ChIPseeker/raw-results/lconway

[ICO]NameLast modifiedSizeDescription

[DIR]Parent Directory  -  
[TXT]buildbin-out.txt25-Jun-2022 00:07 1.2K 
[   ]buildbin-summary.dcf25-Jun-2022 00:07 548  
[TXT]buildsrc-out.txt25-Jun-2022 00:07 891  
[   ]buildsrc-summary.dcf25-Jun-2022 00:07 437  
[TXT]checksrc-out.txt25-Jun-2022 00:07 3.5K 
[   ]checksrc-summary.dcf25-Jun-2022 00:07 457  
[TXT]install-out.txt25-Jun-2022 00:07 1.0K 
[   ]install-summary.dcf25-Jun-2022 00:07 275