Back to Multiple platform build/check report for BioC 3.19:   simplified   long
AB[C]DEFGHIJKLMNOPQRSTUVWXYZ

This page was generated on 2024-02-26 13:58:21 -0500 (Mon, 26 Feb 2024).

HostnameOSArch (*)R versionInstalled pkgs
nebbiolo1Linux (Ubuntu 22.04.3 LTS)x86_64R Under development (unstable) (2024-01-16 r85808) -- "Unsuffered Consequences" 4671
palomino3Windows Server 2022 Datacenterx64R Under development (unstable) (2024-01-14 r85805 ucrt) -- "Unsuffered Consequences" 4411
merida1macOS 12.7.1 Montereyx86_64R Under development (unstable) (2024-01-16 r85808) -- "Unsuffered Consequences" 4438
kunpeng2Linux (openEuler 22.03 LTS-SP1)aarch64R Under development (unstable) (2024-01-16 r85812) -- "Unsuffered Consequences" 4414
Click on any hostname to see more info about the system (e.g. compilers)      (*) as reported by 'uname -p', except on Windows and Mac OS X

Package 332/2251HostnameOS / ArchINSTALLBUILDCHECKBUILD BIN
ChIPexoQual 1.27.0  (landing page)
Rene Welch
Snapshot Date: 2024-02-23 14:00:08 -0500 (Fri, 23 Feb 2024)
git_url: https://git.bioconductor.org/packages/ChIPexoQual
git_branch: devel
git_last_commit: a0dc514
git_last_commit_date: 2023-10-24 10:55:06 -0500 (Tue, 24 Oct 2023)
nebbiolo1Linux (Ubuntu 22.04.3 LTS) / x86_64  OK    OK    OK  UNNEEDED, same version is already published
palomino3Windows Server 2022 Datacenter / x64  OK    OK    OK    OK  UNNEEDED, same version is already published
merida1macOS 12.7.1 Monterey / x86_64  OK    OK    OK    OK  UNNEEDED, same version is already published
kunpeng2Linux (openEuler 22.03 LTS-SP1) / aarch64  OK    OK    OK  

BUILD results for ChIPexoQual on nebbiolo1


To the developers/maintainers of the ChIPexoQual package:
- Allow up to 24 hours (and sometimes 48 hours) for your latest push to git@git.bioconductor.org:packages/ChIPexoQual.git to reflect on this report. See Troubleshooting Build Report for more information.
- Use the following Renviron settings to reproduce errors and warnings.
- If 'R CMD check' started to fail recently on the Linux builder(s) over a missing dependency, add the missing dependency to 'Suggests:' in your DESCRIPTION file. See Renviron.bioc for more information.

raw results


Summary

Package: ChIPexoQual
Version: 1.27.0
Command: /home/biocbuild/bbs-3.19-bioc/R/bin/R CMD build --keep-empty-dirs --no-resave-data ChIPexoQual
StartedAt: 2024-02-23 16:28:10 -0500 (Fri, 23 Feb 2024)
EndedAt: 2024-02-23 16:30:36 -0500 (Fri, 23 Feb 2024)
EllapsedTime: 146.7 seconds
RetCode: 0
Status:   OK  
PackageFile: ChIPexoQual_1.27.0.tar.gz
PackageFileSize: 2.237 MiB

Command output

##############################################################################
##############################################################################
###
### Running command:
###
###   /home/biocbuild/bbs-3.19-bioc/R/bin/R CMD build --keep-empty-dirs --no-resave-data ChIPexoQual
###
##############################################################################
##############################################################################


* checking for file ‘ChIPexoQual/DESCRIPTION’ ... OK
* preparing ‘ChIPexoQual’:
* checking DESCRIPTION meta-information ... OK
* installing the package to build vignettes
* creating vignettes ... OK
* checking for LF line-endings in source and make files and shell scripts
* checking for empty or unneeded directories
* looking to see if a ‘data/datalist’ file should be added
  NB: this package now depends on R (>= 3.5.0)
  WARNING: Added dependency on R >= 3.5.0 because serialized objects in
  serialize/load version 3 cannot be read in older versions of R.
  File(s) containing such objects:
    ‘ChIPexoQual/data/blacklists.RData’
    ‘ChIPexoQual/data/exoExample.RData’
* building ‘ChIPexoQual_1.27.0.tar.gz’