Back to Multiple platform build/check report for BioC 3.15
AB[C]DEFGHIJKLMNOPQRSTUVWXYZ

This page was generated on 2022-01-27 11:06:55 -0500 (Thu, 27 Jan 2022).

HostnameOSArch (*)R versionInstalled pkgs
nebbiolo1Linux (Ubuntu 20.04.4 LTS)x86_64R Under development (unstable) (2022-01-05 r81451) -- "Unsuffered Consequences" 4167
riesling1Windows Server 2019 Standardx64R Under development (unstable) (2021-11-21 r81221) -- "Unsuffered Consequences" 4062
palomino3Windows Server 2022 Datacenterx64R Under development (unstable) (2021-12-21 r81400 ucrt) -- "Unsuffered Consequences" 4004
merida1macOS 10.14.6 Mojavex86_64R Under development (unstable) (2022-01-05 r81451) -- "Unsuffered Consequences" 4121
Click on any hostname to see more info about the system (e.g. compilers)      (*) as reported by 'uname -p', except on Windows and Mac OS X

INSTALL results for ChIPanalyser on riesling1


To the developers/maintainers of the ChIPanalyser package:
- Please allow up to 24 hours (and sometimes 48 hours) for your latest push to git@git.bioconductor.org:packages/ChIPanalyser.git to
reflect on this report. See How and When does the builder pull? When will my changes propagate? here for more information.
- Make sure to use the following settings in order to reproduce any error or warning you see on this page.

raw results

Package 295/2077HostnameOS / ArchINSTALLBUILDCHECKBUILD BIN
ChIPanalyser 1.17.1  (landing page)
Patrick C.N. Martin
Snapshot Date: 2022-01-26 13:55:18 -0500 (Wed, 26 Jan 2022)
git_url: https://git.bioconductor.org/packages/ChIPanalyser
git_branch: master
git_last_commit: 66ff2c8
git_last_commit_date: 2021-11-18 16:54:52 -0500 (Thu, 18 Nov 2021)
nebbiolo1Linux (Ubuntu 20.04.4 LTS) / x86_64  OK    OK    OK  UNNEEDED, same version is already published
riesling1Windows Server 2019 Standard / x64  OK    OK    OK    NA  
palomino3Windows Server 2022 Datacenter / x64  OK    OK    OK    OK  NO, package depends on 'GenomicRanges' which is not available
merida1macOS 10.14.6 Mojave / x86_64  OK    OK    OK    OK  UNNEEDED, same version is already published

Summary

Package: ChIPanalyser
Version: 1.17.1
Command: D:\biocbuild\bbs-3.15-bioc\R\bin\R.exe CMD INSTALL ChIPanalyser
StartedAt: 2022-01-26 16:00:46 -0500 (Wed, 26 Jan 2022)
EndedAt: 2022-01-26 16:01:52 -0500 (Wed, 26 Jan 2022)
EllapsedTime: 65.9 seconds
RetCode: 0
Status:   OK  

Command output

##############################################################################
##############################################################################
###
### Running command:
###
###   D:\biocbuild\bbs-3.15-bioc\R\bin\R.exe CMD INSTALL ChIPanalyser
###
##############################################################################
##############################################################################


* installing to library 'D:/biocbuild/bbs-3.15-bioc/R/library'
* installing *source* package 'ChIPanalyser' ...
** using staged installation
** R
** data
*** moving datasets to lazyload DB
** inst
** byte-compile and prepare package for lazy loading
Creating a new generic function for 'drop' in package 'ChIPanalyser'
** help
*** installing help indices
  converting help for package 'ChIPanalyser'
    finding HTML links ... done
    BPFrequency-methods                     html  
    BPFrequency                             html  
    BPFrequency_--methods                   html  
    BPFrequency_-                           html  
    ChIPScore-class                         html  
    ChIPanalyser-package                    html  
    DNASequenceLength-methods               html  
    DNASequenceLength                       html  
    GRList-class                            html  
    PFMFormat-methods                       html  
    PFMFormat                               html  
    PFMFormat_--methods                     html  
    PFMFormat_                              html  
    PWMThreshold-methods                    html  
    PWMThreshold                            html  
    PWMThreshold_--methods                  html  
    PWMThreshold_-                          html  
    PWMpseudocount-methods                  html  
    PWMpseudocount                          html  
    PWMpseudocount_--methods                html  
    PWMpseudocount_-                        html  
    PositionFrequencyMatrix-methods         html  
    PositionFrequencyMatrix                 html  
    PositionFrequencyMatrix_--methods       html  
    PositionFrequencyMatrix_-               html  
    PositionWeightMatrix-methods            html  
    PositionWeightMatrix                    html  
    PositionWeightMatrix_--methods          html  
    PositionWeightMatrix_-                  html  
    averageExpPWMScore-methods              html  
    averageExpPWMScore                      html  
    backgroundSignal-methods                html  
    backgroundSignal                        html  
    backgroundSignal_--methods              html  
    backgroundSignal_-                      html  
    boundMolecules-methods                  html  
    boundMolecules                          html  
    boundMolecules_--methods                html  
    boundMolecules_-                        html  
    chipMean-methods                        html  
    chipMean                                html  
    chipMean_--methods                      html  
    chipMean_-                              html  
    chipSd-methods                          html  
    chipSd                                  html  
    chipSd_--methods                        html  
    chipSd_-                                html  
    chipSmooth-methods                      html  
    chipSmooth                              html  
    chipSmooth_--methods                    html  
    chipSmooth_-                            html  
    computeChIPProfile                      html  
    finding level-2 HTML links ... done

    computeGenomeWideScores                 html  
    computeOccupancy                        html  
    computeOptimal                          html  
    computePWMScore                         html  
    data                                    html  
    drop-methods                            html  
    drop                                    html  
    genomicProfiles-class                   html  
    genomicProfiles                         html  
    genomicProfilesInternal-class           html  
    initialize-methods                      html  
    lambdaPWM-methods                       html  
    lambdaPWM                               html  
    lambdaPWM_--methods                     html  
    lambdaPWM_                              html  
    loci-class                              html  
    loci-methods                            html  
    loci                                    html  
    lociWidth-methods                       html  
    lociWidth                               html  
    lociWidth_--methods                     html  
    lociWidth_                              html  
    maxPWMScore-methods                     html  
    maxPWMScore                             html  
    maxSignal-methods                       html  
    maxSignal                               html  
    maxSignal_--methods                     html  
    maxSignal_-                             html  
    minPWMScore-methods                     html  
    minPWMScore                             html  
    naturalLog-methods                      html  
    naturalLog                              html  
    naturalLog_--methods                    html  
    naturalLog_-                            html  
    noOfSites-methods                       html  
    noOfSites                               html  
    noOfSites_--methods                     html  
    noOfSites_-                             html  
    noiseFilter-methods                     html  
    noiseFilter                             html  
    noiseFilter_--methods                   html  
    noiseFilter_                            html  
    nos-class                               html  
    parameterOptions-class                  html  
    parameterOptions                        html  
    ploidy-methods                          html  
    ploidy                                  html  
    ploidy_--methods                        html  
    ploidy_-                                html  
    plotOccupancyProfile                    html  
    plotOptimalHeatMaps                     html  
    processingChIP                          html  
    profileAccuracyEstimate                 html  
    profiles-methods                        html  
    removeBackground-methods                html  
    removeBackground                        html  
    removeBackground_--methods              html  
    removeBackground_-                      html  
    scores-methods                          html  
    scores                                  html  
    searchSites                             html  
    show-methods                            html  
    stepSize-methods                        html  
    stepSize                                html  
    stepSize_--methods                      html  
    stepSize_-                              html  
    strandRule-methods                      html  
    strandRule                              html  
    strandRule_--methods                    html  
    strandRule_-                            html  
    whichstrand-methods                     html  
    whichstrand                             html  
    whichstrand_--methods                   html  
    whichstrand_-                           html  
** building package indices
** installing vignettes
** testing if installed package can be loaded from temporary location
** testing if installed package can be loaded from final location
** testing if installed package keeps a record of temporary installation path
* DONE (ChIPanalyser)
Making 'packages.html' ...Warning in packageDescription(i, lib.loc = lib, fields = "Title", encoding = "UTF-8") :
  DESCRIPTION file of package 'SpidermiR' is missing or broken
 done