Back to Multiple platform build/check report for BioC 3.15
AB[C]DEFGHIJKLMNOPQRSTUVWXYZ

This page was generated on 2022-01-21 11:07:12 -0500 (Fri, 21 Jan 2022).

HostnameOSArch (*)R versionInstalled pkgs
nebbiolo1Linux (Ubuntu 20.04.4 LTS)x86_64R Under development (unstable) (2022-01-05 r81451) -- "Unsuffered Consequences" 4163
riesling1Windows Server 2019 Standardx64R Under development (unstable) (2021-11-21 r81221) -- "Unsuffered Consequences" 4058
palomino3Windows Server 2022 Datacenterx64R Under development (unstable) (2021-12-21 r81400 ucrt) -- "Unsuffered Consequences" 4000
merida1macOS 10.14.6 Mojavex86_64R Under development (unstable) (2022-01-05 r81451) -- "Unsuffered Consequences" 4117
Click on any hostname to see more info about the system (e.g. compilers)      (*) as reported by 'uname -p', except on Windows and Mac OS X

CHECK results for ChIPanalyser on riesling1


To the developers/maintainers of the ChIPanalyser package:
- Please allow up to 24 hours (and sometimes 48 hours) for your latest push to git@git.bioconductor.org:packages/ChIPanalyser.git to
reflect on this report. See How and When does the builder pull? When will my changes propagate? here for more information.
- Make sure to use the following settings in order to reproduce any error or warning you see on this page.

raw results

Package 295/2075HostnameOS / ArchINSTALLBUILDCHECKBUILD BIN
ChIPanalyser 1.17.1  (landing page)
Patrick C.N. Martin
Snapshot Date: 2022-01-20 13:55:17 -0500 (Thu, 20 Jan 2022)
git_url: https://git.bioconductor.org/packages/ChIPanalyser
git_branch: master
git_last_commit: 66ff2c8
git_last_commit_date: 2021-11-18 16:54:52 -0500 (Thu, 18 Nov 2021)
nebbiolo1Linux (Ubuntu 20.04.4 LTS) / x86_64  OK    OK    OK  UNNEEDED, same version is already published
riesling1Windows Server 2019 Standard / x64  OK    OK    OK    OK  
palomino3Windows Server 2022 Datacenter / x64  OK    OK    OK    OK  NO, package depends on 'GenomicRanges' which is not available
merida1macOS 10.14.6 Mojave / x86_64  OK    OK    OK    OK  UNNEEDED, same version is already published

Summary

Package: ChIPanalyser
Version: 1.17.1
Command: D:\biocbuild\bbs-3.15-bioc\R\bin\R.exe CMD check --no-multiarch --install=check:ChIPanalyser.install-out.txt --library=D:\biocbuild\bbs-3.15-bioc\R\library --no-vignettes --timings ChIPanalyser_1.17.1.tar.gz
StartedAt: 2022-01-20 18:28:56 -0500 (Thu, 20 Jan 2022)
EndedAt: 2022-01-20 18:32:23 -0500 (Thu, 20 Jan 2022)
EllapsedTime: 207.3 seconds
RetCode: 0
Status:   OK  
CheckDir: ChIPanalyser.Rcheck
Warnings: 0

Command output

##############################################################################
##############################################################################
###
### Running command:
###
###   D:\biocbuild\bbs-3.15-bioc\R\bin\R.exe CMD check --no-multiarch --install=check:ChIPanalyser.install-out.txt --library=D:\biocbuild\bbs-3.15-bioc\R\library --no-vignettes --timings ChIPanalyser_1.17.1.tar.gz
###
##############################################################################
##############################################################################


* using log directory 'D:/biocbuild/bbs-3.15-bioc/meat/ChIPanalyser.Rcheck'
* using R Under development (unstable) (2021-11-21 r81221)
* using platform: x86_64-w64-mingw32 (64-bit)
* using session charset: ISO8859-1
* using option '--no-vignettes'
* checking for file 'ChIPanalyser/DESCRIPTION' ... OK
* checking extension type ... Package
* this is package 'ChIPanalyser' version '1.17.1'
* package encoding: UTF-8
* checking package namespace information ... OK
* checking package dependencies ... OK
* checking if this is a source package ... OK
* checking if there is a namespace ... OK
* checking for hidden files and directories ... OK
* checking for portable file names ... OK
* checking whether package 'ChIPanalyser' can be installed ... OK
* checking installed package size ... OK
* checking package directory ... OK
* checking 'build' directory ... OK
* checking DESCRIPTION meta-information ... OK
* checking top-level files ... OK
* checking for left-over files ... OK
* checking index information ... OK
* checking package subdirectories ... OK
* checking R files for non-ASCII characters ... OK
* checking R files for syntax errors ... OK
* checking whether the package can be loaded ... OK
* checking whether the package can be loaded with stated dependencies ... OK
* checking whether the package can be unloaded cleanly ... OK
* checking whether the namespace can be loaded with stated dependencies ... OK
* checking whether the namespace can be unloaded cleanly ... OK
* checking dependencies in R code ... OK
* checking S3 generic/method consistency ... OK
* checking replacement functions ... OK
* checking foreign function calls ... OK
* checking R code for possible problems ... NOTE
.methodSwitchGoF: no visible global function definition for 'ks'
Undefined global functions or variables:
  ks
* checking Rd files ... OK
* checking Rd metadata ... OK
* checking Rd cross-references ... OK
* checking for missing documentation entries ... OK
* checking for code/documentation mismatches ... OK
* checking Rd \usage sections ... OK
* checking Rd contents ... OK
* checking for unstated dependencies in examples ... OK
* checking contents of 'data' directory ... OK
* checking data for non-ASCII characters ... OK
* checking LazyData ... OK
* checking data for ASCII and uncompressed saves ... OK
* checking files in 'vignettes' ... OK
* checking examples ... OK
* checking for unstated dependencies in 'tests' ... OK
* checking tests ...
  Running 'runTests.R'
 OK
* checking for unstated dependencies in vignettes ... OK
* checking package vignettes in 'inst/doc' ... OK
* checking running R code from vignettes ... SKIPPED
* checking re-building of vignette outputs ... SKIPPED
* checking PDF version of manual ... OK
* DONE

Status: 1 NOTE
See
  'D:/biocbuild/bbs-3.15-bioc/meat/ChIPanalyser.Rcheck/00check.log'
for details.



Installation output

ChIPanalyser.Rcheck/00install.out

##############################################################################
##############################################################################
###
### Running command:
###
###   D:\biocbuild\bbs-3.15-bioc\R\bin\R.exe CMD INSTALL ChIPanalyser
###
##############################################################################
##############################################################################


* installing to library 'D:/biocbuild/bbs-3.15-bioc/R/library'
* installing *source* package 'ChIPanalyser' ...
** using staged installation
** R
** data
*** moving datasets to lazyload DB
** inst
** byte-compile and prepare package for lazy loading
Creating a new generic function for 'drop' in package 'ChIPanalyser'
** help
*** installing help indices
  converting help for package 'ChIPanalyser'
    finding HTML links ... done
    BPFrequency-methods                     html  
    BPFrequency                             html  
    BPFrequency_--methods                   html  
    BPFrequency_-                           html  
    ChIPScore-class                         html  
    ChIPanalyser-package                    html  
    DNASequenceLength-methods               html  
    DNASequenceLength                       html  
    GRList-class                            html  
    PFMFormat-methods                       html  
    PFMFormat                               html  
    PFMFormat_--methods                     html  
    PFMFormat_                              html  
    PWMThreshold-methods                    html  
    PWMThreshold                            html  
    PWMThreshold_--methods                  html  
    PWMThreshold_-                          html  
    PWMpseudocount-methods                  html  
    PWMpseudocount                          html  
    PWMpseudocount_--methods                html  
    PWMpseudocount_-                        html  
    PositionFrequencyMatrix-methods         html  
    PositionFrequencyMatrix                 html  
    PositionFrequencyMatrix_--methods       html  
    PositionFrequencyMatrix_-               html  
    PositionWeightMatrix-methods            html  
    PositionWeightMatrix                    html  
    PositionWeightMatrix_--methods          html  
    PositionWeightMatrix_-                  html  
    averageExpPWMScore-methods              html  
    averageExpPWMScore                      html  
    backgroundSignal-methods                html  
    backgroundSignal                        html  
    backgroundSignal_--methods              html  
    backgroundSignal_-                      html  
    boundMolecules-methods                  html  
    boundMolecules                          html  
    boundMolecules_--methods                html  
    boundMolecules_-                        html  
    chipMean-methods                        html  
    chipMean                                html  
    chipMean_--methods                      html  
    chipMean_-                              html  
    chipSd-methods                          html  
    chipSd                                  html  
    chipSd_--methods                        html  
    chipSd_-                                html  
    chipSmooth-methods                      html  
    chipSmooth                              html  
    chipSmooth_--methods                    html  
    chipSmooth_-                            html  
    computeChIPProfile                      html  
    finding level-2 HTML links ... done

    computeGenomeWideScores                 html  
    computeOccupancy                        html  
    computeOptimal                          html  
    computePWMScore                         html  
    data                                    html  
    drop-methods                            html  
    drop                                    html  
    genomicProfiles-class                   html  
    genomicProfiles                         html  
    genomicProfilesInternal-class           html  
    initialize-methods                      html  
    lambdaPWM-methods                       html  
    lambdaPWM                               html  
    lambdaPWM_--methods                     html  
    lambdaPWM_                              html  
    loci-class                              html  
    loci-methods                            html  
    loci                                    html  
    lociWidth-methods                       html  
    lociWidth                               html  
    lociWidth_--methods                     html  
    lociWidth_                              html  
    maxPWMScore-methods                     html  
    maxPWMScore                             html  
    maxSignal-methods                       html  
    maxSignal                               html  
    maxSignal_--methods                     html  
    maxSignal_-                             html  
    minPWMScore-methods                     html  
    minPWMScore                             html  
    naturalLog-methods                      html  
    naturalLog                              html  
    naturalLog_--methods                    html  
    naturalLog_-                            html  
    noOfSites-methods                       html  
    noOfSites                               html  
    noOfSites_--methods                     html  
    noOfSites_-                             html  
    noiseFilter-methods                     html  
    noiseFilter                             html  
    noiseFilter_--methods                   html  
    noiseFilter_                            html  
    nos-class                               html  
    parameterOptions-class                  html  
    parameterOptions                        html  
    ploidy-methods                          html  
    ploidy                                  html  
    ploidy_--methods                        html  
    ploidy_-                                html  
    plotOccupancyProfile                    html  
    plotOptimalHeatMaps                     html  
    processingChIP                          html  
    profileAccuracyEstimate                 html  
    profiles-methods                        html  
    removeBackground-methods                html  
    removeBackground                        html  
    removeBackground_--methods              html  
    removeBackground_-                      html  
    scores-methods                          html  
    scores                                  html  
    searchSites                             html  
    show-methods                            html  
    stepSize-methods                        html  
    stepSize                                html  
    stepSize_--methods                      html  
    stepSize_-                              html  
    strandRule-methods                      html  
    strandRule                              html  
    strandRule_--methods                    html  
    strandRule_-                            html  
    whichstrand-methods                     html  
    whichstrand                             html  
    whichstrand_--methods                   html  
    whichstrand_-                           html  
** building package indices
** installing vignettes
** testing if installed package can be loaded from temporary location
** testing if installed package can be loaded from final location
** testing if installed package keeps a record of temporary installation path
* DONE (ChIPanalyser)
Making 'packages.html' ...Warning in packageDescription(i, lib.loc = lib, fields = "Title", encoding = "UTF-8") :
  DESCRIPTION file of package 'recoup' is missing or broken
 done

Tests output

ChIPanalyser.Rcheck/tests/runTests.Rout


R Under development (unstable) (2021-11-21 r81221) -- "Unsuffered Consequences"
Copyright (C) 2021 The R Foundation for Statistical Computing
Platform: x86_64-w64-mingw32/x64 (64-bit)

R is free software and comes with ABSOLUTELY NO WARRANTY.
You are welcome to redistribute it under certain conditions.
Type 'license()' or 'licence()' for distribution details.

R is a collaborative project with many contributors.
Type 'contributors()' for more information and
'citation()' on how to cite R or R packages in publications.

Type 'demo()' for some demos, 'help()' for on-line help, or
'help.start()' for an HTML browser interface to help.
Type 'q()' to quit R.

> BiocGenerics:::testPackage("ChIPanalyser")

Attaching package: 'BiocGenerics'

The following objects are masked from 'package:stats':

    IQR, mad, sd, var, xtabs

The following objects are masked from 'package:base':

    Filter, Find, Map, Position, Reduce, anyDuplicated, append,
    as.data.frame, basename, cbind, colnames, dirname, do.call,
    duplicated, eval, evalq, get, grep, grepl, intersect, is.unsorted,
    lapply, mapply, match, mget, order, paste, pmax, pmax.int, pmin,
    pmin.int, rank, rbind, rownames, sapply, setdiff, sort, table,
    tapply, union, unique, unsplit, which.max, which.min


Attaching package: 'S4Vectors'

The following objects are masked from 'package:base':

    I, expand.grid, unname


Attaching package: 'IRanges'

The following object is masked from 'package:grDevices':

    windows


Attaching package: 'Biostrings'

The following object is masked from 'package:base':

    strsplit


Attaching package: 'ChIPanalyser'

The following object is masked from 'package:IRanges':

    drop

The following object is masked from 'package:base':

    drop

Loading required package: BSgenome.Dmelanogaster.UCSC.dm3


RUNIT TEST PROTOCOL -- Thu Jan 20 18:32:07 2022 
*********************************************** 
Number of test functions: 0 
Number of errors: 0 
Number of failures: 0 

 
1 Test Suite : 
ChIPanalyser RUnit Tests - 0 test functions, 0 errors, 0 failures
Number of test functions: 0 
Number of errors: 0 
Number of failures: 0 
> 
> proc.time()
   user  system elapsed 
  11.46    0.90   12.40 

Example timings

ChIPanalyser.Rcheck/ChIPanalyser-Ex.timings

nameusersystemelapsed
BPFrequency0.100.020.11
BPFrequency_-000
ChIPScore-class000
ChIPanalyser-package000
DNASequenceLength000
GRList-class000
PFMFormat0.140.020.15
PFMFormat_0.060.000.07
PWMThreshold000
PWMThreshold_-000
PWMpseudocount0.010.000.02
PWMpseudocount_-0.000.010.01
PositionFrequencyMatrix0.030.030.07
PositionFrequencyMatrix_-0.000.020.01
PositionWeightMatrix0.050.010.06
PositionWeightMatrix_-0.020.000.02
averageExpPWMScore0.010.030.05
backgroundSignal0.000.020.01
backgroundSignal_-0.000.020.02
boundMolecules000
boundMolecules_-0.020.000.01
chipMean0.010.000.02
chipMean_-000
chipSd0.020.000.01
chipSd_-0.020.000.02
chipSmooth000
chipSmooth_-000
computeChIPProfile0.010.000.00
computeGenomeWideScores000
computeOccupancy000
computeOptimal0.000.010.01
computePWMScore000
data000
drop0.020.020.03
genomicProfiles-class000
genomicProfiles0.030.000.03
genomicProfilesInternal-class000
lambdaPWM0.000.020.02
lambdaPWM_0.010.000.01
loci-class000
loci1.380.081.45
lociWidth0.010.000.02
lociWidth_000
maxPWMScore0.020.000.02
maxSignal000
maxSignal_-000
minPWMScore000
naturalLog000
naturalLog_-000
noOfSites0.010.000.01
noOfSites_-000
noiseFilter0.000.020.02
noiseFilter_0.020.000.01
nos-class000
parameterOptions-class000
parameterOptions0.010.000.02
ploidy000
ploidy_-000
plotOccupancyProfile0.000.010.01
plotOptimalHeatMaps000
processingChIP0.690.100.79
profileAccuracyEstimate000
removeBackground000
removeBackground_-000
scores0.670.090.77
searchSites000
stepSize000
stepSize_-000
strandRule0.000.020.02
strandRule_-0.020.000.01
whichstrand000
whichstrand_-0.010.000.02