Index of /checkResults/devel/bioc-LATEST/ChIPanalyser/raw-results/palomino4

[ICO]NameLast modifiedSizeDescription

[DIR]Parent Directory  -  
[   ]checksrc-summary.dcf18-Aug-2022 00:06 470  
[   ]buildsrc-summary.dcf18-Aug-2022 00:06 473  
[   ]buildbin-summary.dcf18-Aug-2022 00:06 563  
[   ]install-summary.dcf18-Aug-2022 00:06 673  
[TXT]buildsrc-out.txt18-Aug-2022 00:06 897  
[TXT]buildbin-out.txt18-Aug-2022 00:06 1.3K 
[TXT]install-out.txt18-Aug-2022 00:06 2.0K 
[TXT]checksrc-out.txt18-Aug-2022 00:06 3.5K