![]() | Name | Last modified | Size | Description |
---|---|---|---|---|
![]() | Parent Directory | - | ||
![]() | buildsrc-out.txt | 02-Jul-2022 00:04 | 858 | |
![]() | buildsrc-summary.dcf | 02-Jul-2022 00:04 | 433 | |
![]() | checksrc-out.txt | 02-Jul-2022 00:04 | 3.4K | |
![]() | checksrc-summary.dcf | 02-Jul-2022 00:04 | 444 | |
![]() | install-out.txt | 02-Jul-2022 00:04 | 1.1K | |
![]() | install-summary.dcf | 02-Jul-2022 00:04 | 269 | |