Index of /checkResults/devel/bioc-LATEST/ChIPanalyser/raw-results/lconway

[ICO]NameLast modifiedSizeDescription

[DIR]Parent Directory  -  
[TXT]buildbin-out.txt02-Jul-2022 00:07 1.3K 
[   ]buildbin-summary.dcf02-Jul-2022 00:07 559  
[TXT]buildsrc-out.txt02-Jul-2022 00:07 868  
[   ]buildsrc-summary.dcf02-Jul-2022 00:07 443  
[TXT]checksrc-out.txt02-Jul-2022 00:07 3.5K 
[   ]checksrc-summary.dcf02-Jul-2022 00:07 464  
[TXT]install-out.txt02-Jul-2022 00:07 1.1K 
[   ]install-summary.dcf02-Jul-2022 00:07 279