Back to Multiple platform build/check report for BioC 3.15
AB[C]DEFGHIJKLMNOPQRSTUVWXYZ

This page was generated on 2022-01-22 11:06:58 -0500 (Sat, 22 Jan 2022).

HostnameOSArch (*)R versionInstalled pkgs
nebbiolo1Linux (Ubuntu 20.04.4 LTS)x86_64R Under development (unstable) (2022-01-05 r81451) -- "Unsuffered Consequences" 4163
riesling1Windows Server 2019 Standardx64R Under development (unstable) (2021-11-21 r81221) -- "Unsuffered Consequences" 4058
palomino3Windows Server 2022 Datacenterx64R Under development (unstable) (2021-12-21 r81400 ucrt) -- "Unsuffered Consequences" 4000
merida1macOS 10.14.6 Mojavex86_64R Under development (unstable) (2022-01-05 r81451) -- "Unsuffered Consequences" 4117
Click on any hostname to see more info about the system (e.g. compilers)      (*) as reported by 'uname -p', except on Windows and Mac OS X

BUILD results for ChIPQC on riesling1


To the developers/maintainers of the ChIPQC package:
- Please allow up to 24 hours (and sometimes 48 hours) for your latest push to git@git.bioconductor.org:packages/ChIPQC.git to
reflect on this report. See How and When does the builder pull? When will my changes propagate? here for more information.
- Make sure to use the following settings in order to reproduce any error or warning you see on this page.

raw results

Package 300/2075HostnameOS / ArchINSTALLBUILDCHECKBUILD BIN
ChIPQC 1.31.1  (landing page)
Tom Carroll , Rory Stark
Snapshot Date: 2022-01-21 13:55:18 -0500 (Fri, 21 Jan 2022)
git_url: https://git.bioconductor.org/packages/ChIPQC
git_branch: master
git_last_commit: e20e832
git_last_commit_date: 2021-11-20 23:21:44 -0500 (Sat, 20 Nov 2021)
nebbiolo1Linux (Ubuntu 20.04.4 LTS) / x86_64  OK    OK    WARNINGS  UNNEEDED, same version is already published
riesling1Windows Server 2019 Standard / x64  OK    OK    NA    NA  
palomino3Windows Server 2022 Datacenter / x64  OK    OK    WARNINGS    OK  NO, package depends on 'DiffBind' which is not available
merida1macOS 10.14.6 Mojave / x86_64  OK    OK    ERROR    OK  

Summary

Package: ChIPQC
Version: 1.31.1
Command: chmod a+r ChIPQC -R && D:\biocbuild\bbs-3.15-bioc\R\bin\R.exe CMD build --keep-empty-dirs --no-resave-data ChIPQC
StartedAt: 2022-01-21 16:29:55 -0500 (Fri, 21 Jan 2022)
EndedAt: 2022-01-21 16:31:53 -0500 (Fri, 21 Jan 2022)
EllapsedTime: 117.8 seconds
RetCode: 0
Status:   OK  
PackageFile: ChIPQC_1.31.1.tar.gz
PackageFileSize: 1.518 MiB

Command output

##############################################################################
##############################################################################
###
### Running command:
###
###   chmod a+r ChIPQC -R && D:\biocbuild\bbs-3.15-bioc\R\bin\R.exe CMD build --keep-empty-dirs --no-resave-data ChIPQC
###
##############################################################################
##############################################################################


* checking for file 'ChIPQC/DESCRIPTION' ... OK
* preparing 'ChIPQC':
* checking DESCRIPTION meta-information ... OK
* installing the package to build vignettes
* creating vignettes ... OK
* checking for LF line-endings in source and make files and shell scripts
* checking for empty or unneeded directories
* looking to see if a 'data/datalist' file should be added
  NB: this package now depends on R (>= 3.5.0)
  WARNING: Added dependency on R >= 3.5.0 because serialized objects in
  serialize/load version 3 cannot be read in older versions of R.
  File(s) containing such objects:
    'ChIPQC/data/blacklist_hg19.RData'
    'ChIPQC/data/example_QCexperiment.RData'
    'ChIPQC/data/tamoxifen_QC.RData'
* building 'ChIPQC_1.31.1.tar.gz'