Name | Last modified | Size | Description | |
---|---|---|---|---|
Parent Directory | - | |||
install-out.txt | 02-May-2024 00:39 | 1.0K | ||
install-summary.dcf | 02-May-2024 00:39 | 268 | ||
buildsrc-out.txt | 02-May-2024 00:39 | 875 | ||
buildsrc-summary.dcf | 02-May-2024 00:39 | 425 | ||
checksrc-out.txt | 02-May-2024 00:39 | 10K | ||
checksrc-summary.dcf | 02-May-2024 00:39 | 446 | ||
buildbin-out.txt | 02-May-2024 00:39 | 1.1K | ||
buildbin-summary.dcf | 02-May-2024 00:39 | 525 | ||