![]() | Name | Last modified | Size | Description |
---|---|---|---|---|
![]() | Parent Directory | - | ||
![]() | buildbin-out.txt | 03-Oct-2023 00:37 | 1.7K | |
![]() | buildbin-summary.dcf | 03-Oct-2023 00:37 | 521 | |
![]() | buildsrc-out.txt | 03-Oct-2023 00:37 | 936 | |
![]() | buildsrc-summary.dcf | 03-Oct-2023 00:37 | 456 | |
![]() | checksrc-out.txt | 03-Oct-2023 00:37 | 6.2K | |
![]() | checksrc-summary.dcf | 03-Oct-2023 00:37 | 451 | |
![]() | install-out.txt | 03-Oct-2023 00:37 | 1.6K | |
![]() | install-summary.dcf | 03-Oct-2023 00:37 | 270 | |