Index of /checkResults/devel/bioc-LATEST/ChIPComp/raw-results/nebbiolo2

[ICO]NameLast modifiedSizeDescription

[DIR]Parent Directory  -  
[TXT]buildsrc-out.txt25-Jun-2022 00:05 903  
[   ]buildsrc-summary.dcf25-Jun-2022 00:05 420  
[TXT]checksrc-out.txt25-Jun-2022 00:05 5.4K 
[   ]checksrc-summary.dcf25-Jun-2022 00:05 428  
[TXT]install-out.txt25-Jun-2022 00:05 1.3K 
[   ]install-summary.dcf25-Jun-2022 00:05 261