Index of /checkResults/devel/bioc-LATEST/ChIPComp/raw-results/lconway

[ICO]NameLast modifiedSizeDescription

[DIR]Parent Directory  -  
[TXT]buildbin-out.txt30-Jun-2022 00:04 2.5K 
[   ]buildbin-summary.dcf30-Jun-2022 00:04 536  
[TXT]buildsrc-out.txt30-Jun-2022 00:04 913  
[   ]buildsrc-summary.dcf30-Jun-2022 00:04 428  
[TXT]checksrc-out.txt30-Jun-2022 00:04 5.4K 
[   ]checksrc-summary.dcf30-Jun-2022 00:04 448  
[TXT]install-out.txt30-Jun-2022 00:04 1.6K 
[   ]install-summary.dcf30-Jun-2022 00:04 271