Index of /checkResults/devel/bioc-LATEST/ChIC/raw-results
Name
Last modified
Size
Description
Parent Directory
-
nebbiolo2/
21-Apr-2023 01:50
-
info.dcf
21-Apr-2023 01:50
271