Index of /checkResults/devel/bioc-LATEST/ChIC/raw-results

[ICO]NameLast modifiedSizeDescription

[DIR]Parent Directory  -  
[   ]info.dcf29-May-2022 00:07 272  
[DIR]lconway/29-May-2022 00:07 -  
[DIR]nebbiolo2/29-May-2022 00:04 -