Back to Multiple platform build/check report for BioC 3.13
AB[C]DEFGHIJKLMNOPQRSTUVWXYZ

BUILD report for ChIC on malbec2

This page was generated on 2021-01-17 12:31:25 -0500 (Sun, 17 Jan 2021).

TO THE DEVELOPERS/MAINTAINERS OF THE ChIC PACKAGE: Please make sure to use the following settings in order to reproduce any error or warning you see on this page.
Package 277/1931HostnameOS / ArchINSTALLBUILDCHECKBUILD BIN
ChIC 1.11.0
Carmen Maria Livi
Snapshot Date: 2021-01-16 14:40:27 -0500 (Sat, 16 Jan 2021)
URL: https://git.bioconductor.org/packages/ChIC
Branch: master
Last Commit: 4e03a7c
Last Changed Date: 2020-10-27 11:34:35 -0500 (Tue, 27 Oct 2020)
malbec2 Linux (Ubuntu 20.04.1 LTS) / x86_64  OK [ OK ] OK UNNEEDED, same version exists in internal repository
tokay2 Windows Server 2012 R2 Standard / x64 ...NOT SUPPORTED...
riesling1 Windows Server 2019 Standard / x64 ...NOT SUPPORTED...
machv2 macOS 10.14.6 Mojave / x86_64  OK  OK  OK  OK UNNEEDED, same version exists in internal repository

Summary

Package: ChIC
Version: 1.11.0
Command: /home/biocbuild/bbs-3.13-bioc/R/bin/R CMD build --keep-empty-dirs --no-resave-data ChIC
StartedAt: 2021-01-16 18:13:49 -0500 (Sat, 16 Jan 2021)
EndedAt: 2021-01-16 18:18:34 -0500 (Sat, 16 Jan 2021)
EllapsedTime: 285.8 seconds
RetCode: 0
Status:  OK 
PackageFile: ChIC_1.11.0.tar.gz
PackageFileSize: 1.021 MiB

Command output

##############################################################################
##############################################################################
###
### Running command:
###
###   /home/biocbuild/bbs-3.13-bioc/R/bin/R CMD build --keep-empty-dirs --no-resave-data ChIC
###
##############################################################################
##############################################################################


* checking for file ‘ChIC/DESCRIPTION’ ... OK
* preparing ‘ChIC’:
* checking DESCRIPTION meta-information ... OK
* installing the package to build vignettes
* creating vignettes ... OK
* checking for LF line-endings in source and make files and shell scripts
* checking for empty or unneeded directories
* building ‘ChIC_1.11.0.tar.gz’