Back to Multiple platform build/check report for BioC 3.13
AB[C]DEFGHIJKLMNOPQRSTUVWXYZ

INSTALL report for ChIC on machv2

This page was generated on 2021-01-17 12:38:30 -0500 (Sun, 17 Jan 2021).

TO THE DEVELOPERS/MAINTAINERS OF THE ChIC PACKAGE: Please make sure to use the following settings in order to reproduce any error or warning you see on this page.
Package 277/1931HostnameOS / ArchINSTALLBUILDCHECKBUILD BIN
ChIC 1.11.0
Carmen Maria Livi
Snapshot Date: 2021-01-16 14:40:27 -0500 (Sat, 16 Jan 2021)
URL: https://git.bioconductor.org/packages/ChIC
Branch: master
Last Commit: 4e03a7c
Last Changed Date: 2020-10-27 11:34:35 -0500 (Tue, 27 Oct 2020)
malbec2 Linux (Ubuntu 20.04.1 LTS) / x86_64  OK  OK  OK UNNEEDED, same version exists in internal repository
tokay2 Windows Server 2012 R2 Standard / x64 ...NOT SUPPORTED...
riesling1 Windows Server 2019 Standard / x64 ...NOT SUPPORTED...
machv2 macOS 10.14.6 Mojave / x86_64 [ OK ] OK  OK  OK UNNEEDED, same version exists in internal repository

Summary

Package: ChIC
Version: 1.11.0
Command: /Library/Frameworks/R.framework/Versions/Current/Resources/bin/R CMD INSTALL ChIC
StartedAt: 2021-01-16 16:58:47 -0500 (Sat, 16 Jan 2021)
EndedAt: 2021-01-16 16:59:16 -0500 (Sat, 16 Jan 2021)
EllapsedTime: 29.6 seconds
RetCode: 0
Status:  OK 

Command output

##############################################################################
##############################################################################
###
### Running command:
###
###   /Library/Frameworks/R.framework/Versions/Current/Resources/bin/R CMD INSTALL ChIC
###
##############################################################################
##############################################################################


* installing to library ‘/Library/Frameworks/R.framework/Versions/4.1/Resources/library’
* installing *source* package ‘ChIC’ ...
** using staged installation
** R
** byte-compile and prepare package for lazy loading
** help
*** installing help indices
** building package indices
** installing vignettes
** testing if installed package can be loaded from temporary location
** testing if installed package can be loaded from final location
** testing if installed package keeps a record of temporary installation path
* DONE (ChIC)