Back to Multiple platform build/check report for BioC 3.13
AB[C]DEFGHIJKLMNOPQRSTUVWXYZ

Multiple platform build/check report for BioC 3.13

Results for ChIC

This page was generated on 2020-11-24 12:01:33 -0500 (Tue, 24 Nov 2020).

Package 273/1907HostnameOS / ArchINSTALLBUILDCHECKBUILD BIN
ChIC 1.11.0
Carmen Maria Livi
Snapshot Date: 2020-11-23 14:41:10 -0500 (Mon, 23 Nov 2020)
URL: https://git.bioconductor.org/packages/ChIC
Branch: master
Last Commit: 4e03a7c
Last Changed Date: 2020-10-27 11:34:35 -0500 (Tue, 27 Oct 2020)
malbec2 Linux (Ubuntu 20.04.1 LTS) / x86_64  OK  OK  OK UNNEEDED, same version exists in internal repository
tokay2 Windows Server 2012 R2 Standard / x64 ...NOT SUPPORTED...
riesling1 Windows Server 2019 Standard / x64 ...NOT SUPPORTED...
machv2 macOS 10.14.6 Mojave / x86_64  OK  OK  OK  OK UNNEEDED, same version exists in internal repository