Back to Multiple platform build/check report for BioC 3.15
AB[C]DEFGHIJKLMNOPQRSTUVWXYZ

This page was generated on 2021-11-25 14:04:51 -0500 (Thu, 25 Nov 2021).

BUILD results for ChAMP on riesling1

To the developers/maintainers of the ChAMP package:
- Please allow up to 24 hours (and sometimes 48 hours) for your latest push to git@git.bioconductor.org:packages/ChAMP.git to
reflect on this report. See How and When does the builder pull? When will my changes propagate? here for more information.
- Make sure to use the following settings in order to reproduce any error or warning you see on this page.

raw results

Package 287/2068HostnameOS / ArchINSTALLBUILDCHECKBUILD BIN
ChAMP 2.25.0  (landing page)
Yuan Tian
Snapshot Date: 2021-11-24 14:50:13 -0500 (Wed, 24 Nov 2021)
git_url: https://git.bioconductor.org/packages/ChAMP
git_branch: master
git_last_commit: f25a72d
git_last_commit_date: 2021-10-26 12:10:43 -0500 (Tue, 26 Oct 2021)
nebbiolo1Linux (Ubuntu 20.04.3 LTS) / x86_64  OK    OK    WARNINGS  UNNEEDED, same version is already published
riesling1Windows Server 2019 Standard / x64  OK    OK    WARNINGS    OK  
merida1macOS 10.14.6 Mojave / x86_64  OK    OK    WARNINGS    OK  NO, package depends on 'DMRcate' which is not available

Summary

Package: ChAMP
Version: 2.25.0
Command: chmod a+r ChAMP -R && D:\biocbuild\bbs-3.15-bioc\R\bin\R.exe CMD build --keep-empty-dirs --no-resave-data ChAMP
StartedAt: 2021-11-24 20:22:03 -0500 (Wed, 24 Nov 2021)
EndedAt: 2021-11-24 20:26:17 -0500 (Wed, 24 Nov 2021)
EllapsedTime: 253.9 seconds
RetCode: 0
Status:   OK  
PackageFile: ChAMP_2.25.0.tar.gz
PackageFileSize: 7.89 MiB

Command output

##############################################################################
##############################################################################
###
### Running command:
###
###   chmod a+r ChAMP -R && D:\biocbuild\bbs-3.15-bioc\R\bin\R.exe CMD build --keep-empty-dirs --no-resave-data ChAMP
###
##############################################################################
##############################################################################


* checking for file 'ChAMP/DESCRIPTION' ... OK
* preparing 'ChAMP':
* checking DESCRIPTION meta-information ... OK
* installing the package to build vignettes
* creating vignettes ... OK
* checking for LF line-endings in source and make files and shell scripts
* checking for empty or unneeded directories
Omitted 'LazyData' from DESCRIPTION
* building 'ChAMP_2.25.0.tar.gz'