Name | Last modified | Size | Description | |
---|---|---|---|---|
Parent Directory | - | |||
buildbin-out.txt | 02-May-2024 00:39 | 5.2K | ||
buildbin-summary.dcf | 02-May-2024 00:39 | 552 | ||
buildsrc-out.txt | 02-May-2024 00:39 | 924 | ||
buildsrc-summary.dcf | 02-May-2024 00:39 | 438 | ||
checksrc-out.txt | 02-May-2024 00:39 | 6.1K | ||
checksrc-summary.dcf | 02-May-2024 00:39 | 458 | ||
install-out.txt | 02-May-2024 00:39 | 3.1K | ||
install-summary.dcf | 02-May-2024 00:39 | 277 | ||