Back to Multiple platform build/check report for BioC 3.15
AB[C]DEFGHIJKLMNOPQRSTUVWXYZ

This page was generated on 2022-01-21 11:07:18 -0500 (Fri, 21 Jan 2022).

HostnameOSArch (*)R versionInstalled pkgs
nebbiolo1Linux (Ubuntu 20.04.4 LTS)x86_64R Under development (unstable) (2022-01-05 r81451) -- "Unsuffered Consequences" 4163
riesling1Windows Server 2019 Standardx64R Under development (unstable) (2021-11-21 r81221) -- "Unsuffered Consequences" 4058
palomino3Windows Server 2022 Datacenterx64R Under development (unstable) (2021-12-21 r81400 ucrt) -- "Unsuffered Consequences" 4000
merida1macOS 10.14.6 Mojavex86_64R Under development (unstable) (2022-01-05 r81451) -- "Unsuffered Consequences" 4117
Click on any hostname to see more info about the system (e.g. compilers)      (*) as reported by 'uname -p', except on Windows and Mac OS X

CHECK results for CSSQ on riesling1


To the developers/maintainers of the CSSQ package:
- Please allow up to 24 hours (and sometimes 48 hours) for your latest push to git@git.bioconductor.org:packages/CSSQ.git to
reflect on this report. See How and When does the builder pull? When will my changes propagate? here for more information.
- Make sure to use the following settings in order to reproduce any error or warning you see on this page.

raw results

Package 427/2075HostnameOS / ArchINSTALLBUILDCHECKBUILD BIN
CSSQ 1.7.0  (landing page)
Fan Lab at Georgia Institute of Technology
Snapshot Date: 2022-01-20 13:55:17 -0500 (Thu, 20 Jan 2022)
git_url: https://git.bioconductor.org/packages/CSSQ
git_branch: master
git_last_commit: a13363f
git_last_commit_date: 2021-10-26 12:56:31 -0500 (Tue, 26 Oct 2021)
nebbiolo1Linux (Ubuntu 20.04.4 LTS) / x86_64  OK    OK    OK  UNNEEDED, same version is already published
riesling1Windows Server 2019 Standard / x64  OK    OK    OK    OK  
palomino3Windows Server 2022 Datacenter / x64  OK    OK    OK    OK  NO, package depends on 'SummarizedExperiment' which is not available
merida1macOS 10.14.6 Mojave / x86_64  OK    OK    OK    OK  UNNEEDED, same version is already published

Summary

Package: CSSQ
Version: 1.7.0
Command: D:\biocbuild\bbs-3.15-bioc\R\bin\R.exe CMD check --no-multiarch --install=check:CSSQ.install-out.txt --library=D:\biocbuild\bbs-3.15-bioc\R\library --no-vignettes --timings CSSQ_1.7.0.tar.gz
StartedAt: 2022-01-20 18:37:30 -0500 (Thu, 20 Jan 2022)
EndedAt: 2022-01-20 18:43:53 -0500 (Thu, 20 Jan 2022)
EllapsedTime: 382.5 seconds
RetCode: 0
Status:   OK  
CheckDir: CSSQ.Rcheck
Warnings: 0

Command output

##############################################################################
##############################################################################
###
### Running command:
###
###   D:\biocbuild\bbs-3.15-bioc\R\bin\R.exe CMD check --no-multiarch --install=check:CSSQ.install-out.txt --library=D:\biocbuild\bbs-3.15-bioc\R\library --no-vignettes --timings CSSQ_1.7.0.tar.gz
###
##############################################################################
##############################################################################


* using log directory 'D:/biocbuild/bbs-3.15-bioc/meat/CSSQ.Rcheck'
* using R Under development (unstable) (2021-11-21 r81221)
* using platform: x86_64-w64-mingw32 (64-bit)
* using session charset: ISO8859-1
* using option '--no-vignettes'
* checking for file 'CSSQ/DESCRIPTION' ... OK
* this is package 'CSSQ' version '1.7.0'
* package encoding: UTF-8
* checking package namespace information ... OK
* checking package dependencies ... OK
* checking if this is a source package ... OK
* checking if there is a namespace ... OK
* checking for hidden files and directories ... OK
* checking for portable file names ... OK
* checking whether package 'CSSQ' can be installed ... OK
* checking installed package size ... OK
* checking package directory ... OK
* checking 'build' directory ... OK
* checking DESCRIPTION meta-information ... OK
* checking top-level files ... OK
* checking for left-over files ... OK
* checking index information ... OK
* checking package subdirectories ... OK
* checking R files for non-ASCII characters ... OK
* checking R files for syntax errors ... OK
* checking whether the package can be loaded ... OK
* checking whether the package can be loaded with stated dependencies ... OK
* checking whether the package can be unloaded cleanly ... OK
* checking whether the namespace can be loaded with stated dependencies ... OK
* checking whether the namespace can be unloaded cleanly ... OK
* checking dependencies in R code ... OK
* checking S3 generic/method consistency ... OK
* checking replacement functions ... OK
* checking foreign function calls ... OK
* checking R code for possible problems ... OK
* checking Rd files ... OK
* checking Rd metadata ... OK
* checking Rd cross-references ... OK
* checking for missing documentation entries ... OK
* checking for code/documentation mismatches ... OK
* checking Rd \usage sections ... OK
* checking Rd contents ... OK
* checking for unstated dependencies in examples ... OK
* checking files in 'vignettes' ... OK
* checking examples ... OK
Examples with CPU (user + system) or elapsed time > 5s
                user system elapsed
preprocessData  5.53   0.07   65.66
getBgSubVal     5.44   0.06   61.38
getRegionCounts 5.38   0.02   63.51
* checking for unstated dependencies in vignettes ... OK
* checking package vignettes in 'inst/doc' ... OK
* checking running R code from vignettes ... SKIPPED
* checking re-building of vignette outputs ... SKIPPED
* checking PDF version of manual ... OK
* DONE

Status: OK


Installation output

CSSQ.Rcheck/00install.out

##############################################################################
##############################################################################
###
### Running command:
###
###   D:\biocbuild\bbs-3.15-bioc\R\bin\R.exe CMD INSTALL CSSQ
###
##############################################################################
##############################################################################


* installing to library 'D:/biocbuild/bbs-3.15-bioc/R/library'
* installing *source* package 'CSSQ' ...
** using staged installation
** R
** inst
** byte-compile and prepare package for lazy loading
** help
*** installing help indices
  converting help for package 'CSSQ'
    finding HTML links ... done
    DBAnalyze                               html  
    ansTransform                            html  
    calculateFC                             html  
    calculatePvalue                         html  
    calculateTvalue                         html  
    getBgSubVal                             html  
    getComparisons                          html  
    getNewLabels                            html  
    getRegionCounts                         html  
    kmeansNormalize                         html  
    loadCountData                           html  
    normalizeData                           html  
    plotDist                                html  
    preprocessData                          html  
** building package indices
** installing vignettes
** testing if installed package can be loaded from temporary location
** testing if installed package can be loaded from final location
** testing if installed package keeps a record of temporary installation path
* DONE (CSSQ)
Making 'packages.html' ... done

Tests output


Example timings

CSSQ.Rcheck/CSSQ-Ex.timings

nameusersystemelapsed
DBAnalyze0.280.000.28
ansTransform0.050.000.04
getBgSubVal 5.44 0.0661.38
getRegionCounts 5.38 0.0263.51
kmeansNormalize0.010.000.02
loadCountData0.090.000.09
normalizeData0.070.000.06
plotDist0.280.040.33
preprocessData 5.53 0.0765.66