Back to Multiple platform build/check report for BioC 3.15
AB[C]DEFGHIJKLMNOPQRSTUVWXYZ

This page was generated on 2022-01-26 11:07:26 -0500 (Wed, 26 Jan 2022).

HostnameOSArch (*)R versionInstalled pkgs
nebbiolo1Linux (Ubuntu 20.04.4 LTS)x86_64R Under development (unstable) (2022-01-05 r81451) -- "Unsuffered Consequences" 4164
riesling1Windows Server 2019 Standardx64R Under development (unstable) (2021-11-21 r81221) -- "Unsuffered Consequences" 4059
palomino3Windows Server 2022 Datacenterx64R Under development (unstable) (2021-12-21 r81400 ucrt) -- "Unsuffered Consequences" 4001
merida1macOS 10.14.6 Mojavex86_64R Under development (unstable) (2022-01-05 r81451) -- "Unsuffered Consequences" 4118
Click on any hostname to see more info about the system (e.g. compilers)      (*) as reported by 'uname -p', except on Windows and Mac OS X

BUILD BIN results for CSSQ on riesling1


To the developers/maintainers of the CSSQ package:
- Please allow up to 24 hours (and sometimes 48 hours) for your latest push to git@git.bioconductor.org:packages/CSSQ.git to
reflect on this report. See How and When does the builder pull? When will my changes propagate? here for more information.
- Make sure to use the following settings in order to reproduce any error or warning you see on this page.

raw results

Package 427/2075HostnameOS / ArchINSTALLBUILDCHECKBUILD BIN
CSSQ 1.7.0  (landing page)
Fan Lab at Georgia Institute of Technology
Snapshot Date: 2022-01-25 13:55:17 -0500 (Tue, 25 Jan 2022)
git_url: https://git.bioconductor.org/packages/CSSQ
git_branch: master
git_last_commit: a13363f
git_last_commit_date: 2021-10-26 12:56:31 -0500 (Tue, 26 Oct 2021)
nebbiolo1Linux (Ubuntu 20.04.4 LTS) / x86_64  OK    OK    OK  UNNEEDED, same version is already published
riesling1Windows Server 2019 Standard / x64  OK    OK    OK    OK  
palomino3Windows Server 2022 Datacenter / x64  OK    OK    OK    OK  NO, package depends on 'SummarizedExperiment' which is not available
merida1macOS 10.14.6 Mojave / x86_64  OK    OK    OK    OK  UNNEEDED, same version is already published

Summary

Package: CSSQ
Version: 1.7.0
Command: rm -rf CSSQ.buildbin-libdir && mkdir CSSQ.buildbin-libdir && D:\biocbuild\bbs-3.15-bioc\R\bin\R.exe CMD INSTALL --build --library=CSSQ.buildbin-libdir CSSQ_1.7.0.tar.gz
StartedAt: 2022-01-25 20:52:47 -0500 (Tue, 25 Jan 2022)
EndedAt: 2022-01-25 20:53:47 -0500 (Tue, 25 Jan 2022)
EllapsedTime: 59.6 seconds
RetCode: 0
Status:   OK  
PackageFile: CSSQ_1.7.0.zip
PackageFileSize: 953.5 KiB

Command output

##############################################################################
##############################################################################
###
### Running command:
###
###   rm -rf CSSQ.buildbin-libdir && mkdir CSSQ.buildbin-libdir && D:\biocbuild\bbs-3.15-bioc\R\bin\R.exe CMD INSTALL --build --library=CSSQ.buildbin-libdir CSSQ_1.7.0.tar.gz
###
##############################################################################
##############################################################################


* installing *source* package 'CSSQ' ...
** using staged installation
** R
** inst
** byte-compile and prepare package for lazy loading
** help
*** installing help indices
  converting help for package 'CSSQ'
    finding HTML links ... done
    DBAnalyze                               html  
    ansTransform                            html  
    calculateFC                             html  
    calculatePvalue                         html  
    calculateTvalue                         html  
    getBgSubVal                             html  
    getComparisons                          html  
    getNewLabels                            html  
    getRegionCounts                         html  
    kmeansNormalize                         html  
    loadCountData                           html  
    normalizeData                           html  
    plotDist                                html  
    preprocessData                          html  
** building package indices
** installing vignettes
** testing if installed package can be loaded from temporary location
** testing if installed package can be loaded from final location
** testing if installed package keeps a record of temporary installation path
* MD5 sums
packaged installation of 'CSSQ' as CSSQ_1.7.0.zip
* DONE (CSSQ)