Index of /checkResults/devel/bioc-LATEST/CSSQ/raw-results/palomino4

[ICO]NameLast modifiedSizeDescription

[DIR]Parent Directory  -  
[TXT]buildbin-out.txt02-Jul-2022 00:05 1.1K 
[   ]buildbin-summary.dcf02-Jul-2022 00:05 512  
[TXT]buildsrc-out.txt02-Jul-2022 00:05 860  
[   ]buildsrc-summary.dcf02-Jul-2022 00:05 439  
[TXT]checksrc-out.txt02-Jul-2022 00:05 3.0K 
[   ]checksrc-summary.dcf02-Jul-2022 00:05 436  
[TXT]install-out.txt02-Jul-2022 00:05 1.7K 
[   ]install-summary.dcf02-Jul-2022 00:05 595