Index of /checkResults/devel/bioc-LATEST/CSSQ/raw-results/nebbiolo2

[ICO]NameLast modifiedSizeDescription

[DIR]Parent Directory  -  
[TXT]buildsrc-out.txt02-Jul-2022 00:04 833  
[   ]buildsrc-summary.dcf02-Jul-2022 00:04 406  
[TXT]checksrc-out.txt02-Jul-2022 00:04 3.0K 
[   ]checksrc-summary.dcf02-Jul-2022 00:04 410  
[TXT]install-out.txt02-Jul-2022 00:04 938  
[   ]install-summary.dcf02-Jul-2022 00:04 252