Name | Last modified | Size | Description | |
---|---|---|---|---|
Parent Directory | - | |||
buildsrc-out.txt | 28-Mar-2024 00:36 | 834 | ||
buildsrc-summary.dcf | 28-Mar-2024 00:36 | 406 | ||
checksrc-out.txt | 28-Mar-2024 00:36 | 3.1K | ||
checksrc-summary.dcf | 28-Mar-2024 00:36 | 402 | ||
install-out.txt | 28-Mar-2024 00:36 | 943 | ||
install-summary.dcf | 28-Mar-2024 00:36 | 253 | ||