Name | Last modified | Size | Description | |
---|---|---|---|---|
Parent Directory | - | |||
buildbin-out.txt | 29-Mar-2024 00:37 | 1.6K | ||
buildbin-summary.dcf | 29-Mar-2024 00:37 | 497 | ||
buildsrc-out.txt | 29-Mar-2024 00:37 | 856 | ||
buildsrc-summary.dcf | 29-Mar-2024 00:37 | 440 | ||
checksrc-out.txt | 29-Mar-2024 00:37 | 4.5K | ||
checksrc-summary.dcf | 29-Mar-2024 00:37 | 435 | ||
install-out.txt | 29-Mar-2024 00:37 | 1.5K | ||
install-summary.dcf | 29-Mar-2024 00:37 | 262 | ||