Index of /checkResults/devel/bioc-LATEST/CSAR/raw-results/lconway

[ICO]NameLast modifiedSizeDescription

[DIR]Parent Directory  -  
[TXT]buildbin-out.txt02-Jul-2022 00:07 2.4K 
[   ]buildbin-summary.dcf02-Jul-2022 00:07 512  
[TXT]buildsrc-out.txt02-Jul-2022 00:07 834  
[   ]buildsrc-summary.dcf02-Jul-2022 00:07 418  
[TXT]checksrc-out.txt02-Jul-2022 00:07 3.8K 
[   ]checksrc-summary.dcf02-Jul-2022 00:07 432  
[TXT]install-out.txt02-Jul-2022 00:07 1.6K 
[   ]install-summary.dcf02-Jul-2022 00:07 263