Index of /checkResults/devel/bioc-LATEST/CSAR/raw-results
Name
Last modified
Size
Description
Parent Directory
-
info.dcf
05-Jul-2022 00:07
258
lconway/
05-Jul-2022 00:07
-
nebbiolo2/
05-Jul-2022 00:04
-
palomino4/
05-Jul-2022 00:05
-