Back to Multiple platform build/check report for BioC 3.15
AB[C]DEFGHIJKLMNOPQRSTUVWXYZ

This page was generated on 2022-01-20 11:07:03 -0500 (Thu, 20 Jan 2022).

HostnameOSArch (*)R versionInstalled pkgs
nebbiolo1Linux (Ubuntu 20.04.4 LTS)x86_64R Under development (unstable) (2022-01-05 r81451) -- "Unsuffered Consequences" 4162
riesling1Windows Server 2019 Standardx64R Under development (unstable) (2021-11-21 r81221) -- "Unsuffered Consequences" 4057
palomino3Windows Server 2022 Datacenterx64R Under development (unstable) (2021-12-21 r81400 ucrt) -- "Unsuffered Consequences" 3999
merida1macOS 10.14.6 Mojavex86_64R Under development (unstable) (2022-01-05 r81451) -- "Unsuffered Consequences" 4116
Click on any hostname to see more info about the system (e.g. compilers)      (*) as reported by 'uname -p', except on Windows and Mac OS X

CHECK results for CRISPRseek on riesling1


To the developers/maintainers of the CRISPRseek package:
- Please allow up to 24 hours (and sometimes 48 hours) for your latest push to git@git.bioconductor.org:packages/CRISPRseek.git to
reflect on this report. See How and When does the builder pull? When will my changes propagate? here for more information.
- Make sure to use the following settings in order to reproduce any error or warning you see on this page.

raw results

Package 418/2074HostnameOS / ArchINSTALLBUILDCHECKBUILD BIN
CRISPRseek 1.35.3  (landing page)
Lihua Julie Zhu
Snapshot Date: 2022-01-19 13:55:26 -0500 (Wed, 19 Jan 2022)
git_url: https://git.bioconductor.org/packages/CRISPRseek
git_branch: master
git_last_commit: 234f53f
git_last_commit_date: 2022-01-13 15:19:15 -0500 (Thu, 13 Jan 2022)
nebbiolo1Linux (Ubuntu 20.04.4 LTS) / x86_64  OK    OK    OK  UNNEEDED, same version is already published
riesling1Windows Server 2019 Standard / x64  OK    OK    OK    OK  
palomino3Windows Server 2022 Datacenter / x64  OK    OK    OK    OK  NO, package depends on 'BiocGenerics' which is not available
merida1macOS 10.14.6 Mojave / x86_64  OK    OK    OK    OK  UNNEEDED, same version is already published

Summary

Package: CRISPRseek
Version: 1.35.3
Command: D:\biocbuild\bbs-3.15-bioc\R\bin\R.exe CMD check --no-multiarch --install=check:CRISPRseek.install-out.txt --library=D:\biocbuild\bbs-3.15-bioc\R\library --no-vignettes --timings CRISPRseek_1.35.3.tar.gz
StartedAt: 2022-01-19 18:37:28 -0500 (Wed, 19 Jan 2022)
EndedAt: 2022-01-19 18:44:50 -0500 (Wed, 19 Jan 2022)
EllapsedTime: 441.7 seconds
RetCode: 0
Status:   OK  
CheckDir: CRISPRseek.Rcheck
Warnings: 0

Command output

##############################################################################
##############################################################################
###
### Running command:
###
###   D:\biocbuild\bbs-3.15-bioc\R\bin\R.exe CMD check --no-multiarch --install=check:CRISPRseek.install-out.txt --library=D:\biocbuild\bbs-3.15-bioc\R\library --no-vignettes --timings CRISPRseek_1.35.3.tar.gz
###
##############################################################################
##############################################################################


* using log directory 'D:/biocbuild/bbs-3.15-bioc/meat/CRISPRseek.Rcheck'
* using R Under development (unstable) (2021-11-21 r81221)
* using platform: x86_64-w64-mingw32 (64-bit)
* using session charset: ISO8859-1
* using option '--no-vignettes'
* checking for file 'CRISPRseek/DESCRIPTION' ... OK
* checking extension type ... Package
* this is package 'CRISPRseek' version '1.35.3'
* package encoding: UTF-8
* checking package namespace information ... OK
* checking package dependencies ... OK
* checking if this is a source package ... OK
* checking if there is a namespace ... OK
* checking for hidden files and directories ... OK
* checking for portable file names ... OK
* checking whether package 'CRISPRseek' can be installed ... OK
* checking installed package size ... NOTE
  installed size is 12.8Mb
  sub-directories of 1Mb or more:
    extdata  12.1Mb
* checking package directory ... OK
* checking 'build' directory ... OK
* checking DESCRIPTION meta-information ... OK
* checking top-level files ... OK
* checking for left-over files ... OK
* checking index information ... OK
* checking package subdirectories ... OK
* checking R files for non-ASCII characters ... OK
* checking R files for syntax errors ... OK
* checking whether the package can be loaded ... OK
* checking whether the package can be loaded with stated dependencies ... OK
* checking whether the package can be unloaded cleanly ... OK
* checking whether the namespace can be loaded with stated dependencies ... OK
* checking whether the namespace can be unloaded cleanly ... OK
* checking dependencies in R code ... OK
* checking S3 generic/method consistency ... OK
* checking replacement functions ... OK
* checking foreign function calls ... OK
* checking R code for possible problems ... NOTE
annotateOffTargets: no visible global function definition for 'exons'
annotateOffTargets: no visible global function definition for
  'seqlevels<-'
annotateOffTargets: no visible global function definition for 'genes'
getOfftargetScore2: no visible binding for global variable 'subPAM'
predictRelativeFreqIndels : <anonymous>: no visible global function
  definition for 'predIndelFreq'
Undefined global functions or variables:
  exons genes predIndelFreq seqlevels<- subPAM
* checking Rd files ... NOTE
prepare_Rd: annotateOffTargets.Rd:64-66: Dropping empty section \details
prepare_Rd: annotateOffTargets.Rd:67-69: Dropping empty section \note
prepare_Rd: buildFeatureVectorForScoring.Rd:86-88: Dropping empty section \details
prepare_Rd: buildFeatureVectorForScoring.Rd:89-91: Dropping empty section \note
prepare_Rd: buildFeatureVectorForScoring.Rd:99-101: Dropping empty section \references
prepare_Rd: compare2Sequences.Rd:263-265: Dropping empty section \details
prepare_Rd: compare2Sequences.Rd:266-268: Dropping empty section \note
prepare_Rd: filterOffTarget.Rd:151-153: Dropping empty section \details
prepare_Rd: filterOffTarget.Rd:154-156: Dropping empty section \note
prepare_Rd: filtergRNAs.Rd:48-50: Dropping empty section \details
prepare_Rd: filtergRNAs.Rd:51-53: Dropping empty section \note
prepare_Rd: filtergRNAs.Rd:70-72: Dropping empty section \references
prepare_Rd: findgRNAs.Rd:307-309: Dropping empty section \references
prepare_Rd: getOfftargetScore.Rd:79-81: Dropping empty section \note
prepare_Rd: isPatternUnique.Rd:23-25: Dropping empty section \details
prepare_Rd: isPatternUnique.Rd:26-28: Dropping empty section \note
prepare_Rd: isPatternUnique.Rd:37-39: Dropping empty section \references
prepare_Rd: isPatternUnique.Rd:40-42: Dropping empty section \seealso
prepare_Rd: offTargetAnalysis.Rd:438-440: Dropping empty section \details
prepare_Rd: offTargetAnalysis.Rd:441-443: Dropping empty section \note
prepare_Rd: offTargetAnalysisWithoutBSgenome.Rd:440-442: Dropping empty section \details
prepare_Rd: offTargetAnalysisWithoutBSgenome.Rd:443-445: Dropping empty section \note
prepare_Rd: searchHits.Rd:99-101: Dropping empty section \details
prepare_Rd: searchHits.Rd:102-104: Dropping empty section \note
prepare_Rd: searchHits.Rd:130-132: Dropping empty section \references
prepare_Rd: searchHits2.Rd:116-118: Dropping empty section \details
prepare_Rd: searchHits2.Rd:119-121: Dropping empty section \note
prepare_Rd: searchHits2.Rd:152-154: Dropping empty section \references
prepare_Rd: translatePattern.Rd:22-24: Dropping empty section \details
prepare_Rd: translatePattern.Rd:25-27: Dropping empty section \note
prepare_Rd: translatePattern.Rd:33-35: Dropping empty section \references
prepare_Rd: translatePattern.Rd:36-38: Dropping empty section \seealso
prepare_Rd: uniqueREs.Rd:46-48: Dropping empty section \details
prepare_Rd: uniqueREs.Rd:49-51: Dropping empty section \note
prepare_Rd: uniqueREs.Rd:61-63: Dropping empty section \references
prepare_Rd: uniqueREs.Rd:64-66: Dropping empty section \seealso
prepare_Rd: writeHits.Rd:89-91: Dropping empty section \details
prepare_Rd: writeHits.Rd:92-94: Dropping empty section \note
prepare_Rd: writeHits2.Rd:99-101: Dropping empty section \details
prepare_Rd: writeHits2.Rd:102-104: Dropping empty section \note
* checking Rd metadata ... OK
* checking Rd cross-references ... OK
* checking for missing documentation entries ... OK
* checking for code/documentation mismatches ... OK
* checking Rd \usage sections ... OK
* checking Rd contents ... OK
* checking for unstated dependencies in examples ... OK
* checking files in 'vignettes' ... OK
* checking examples ... OK
Examples with CPU (user + system) or elapsed time > 5s
                                   user system elapsed
CRISPRseek-package               147.62  13.70  161.57
offTargetAnalysisWithoutBSgenome  39.77   0.33   41.13
offTargetAnalysis                 11.89   0.86   12.96
searchHits2                        8.63   0.98   10.19
compare2Sequences                  6.06   0.14    6.25
* checking for unstated dependencies in 'tests' ... OK
* checking tests ...
  Running 'runTests.R'
  Running 'testthat.R'
 OK
* checking for unstated dependencies in vignettes ... OK
* checking package vignettes in 'inst/doc' ... OK
* checking running R code from vignettes ... SKIPPED
* checking re-building of vignette outputs ... SKIPPED
* checking PDF version of manual ... OK
* DONE

Status: 3 NOTEs
See
  'D:/biocbuild/bbs-3.15-bioc/meat/CRISPRseek.Rcheck/00check.log'
for details.



Installation output

CRISPRseek.Rcheck/00install.out

##############################################################################
##############################################################################
###
### Running command:
###
###   D:\biocbuild\bbs-3.15-bioc\R\bin\R.exe CMD INSTALL CRISPRseek
###
##############################################################################
##############################################################################


* installing to library 'D:/biocbuild/bbs-3.15-bioc/R/library'
* installing *source* package 'CRISPRseek' ...
** using staged installation
** R
** inst
** byte-compile and prepare package for lazy loading
** help
*** installing help indices
  converting help for package 'CRISPRseek'
    finding HTML links ... done
    CRISPRseek-package                      html  
    annotateOffTargets                      html  
    buildFeatureVectorForScoring            html  
    calculategRNAEfficiency                 html  
    compare2Sequences                       html  
    deepCpf1                                html  
    filterOffTarget                         html  
    filtergRNAs                             html  
    findgRNAs                               html  
    getOfftargetScore                       html  
    isPatternUnique                         html  
    offTargetAnalysis                       html  
    offTargetAnalysisWithoutBSgenome        html  
    predictRelativeFreqIndels               html  
    searchHits                              html  
    searchHits2                             html  
    translatePattern                        html  
    uniqueREs                               html  
    writeHits                               html  
    writeHits2                              html  
** building package indices
** installing vignettes
** testing if installed package can be loaded from temporary location
** testing if installed package can be loaded from final location
** testing if installed package keeps a record of temporary installation path
* DONE (CRISPRseek)
Making 'packages.html' ... done

Tests output

CRISPRseek.Rcheck/tests/runTests.Rout


R Under development (unstable) (2021-11-21 r81221) -- "Unsuffered Consequences"
Copyright (C) 2021 The R Foundation for Statistical Computing
Platform: x86_64-w64-mingw32/x64 (64-bit)

R is free software and comes with ABSOLUTELY NO WARRANTY.
You are welcome to redistribute it under certain conditions.
Type 'license()' or 'licence()' for distribution details.

R is a collaborative project with many contributors.
Type 'contributors()' for more information and
'citation()' on how to cite R or R packages in publications.

Type 'demo()' for some demos, 'help()' for on-line help, or
'help.start()' for an HTML browser interface to help.
Type 'q()' to quit R.

> #BiocGenerics:::testPackage("CRISPRseek")
> 
> proc.time()
   user  system elapsed 
   0.17    0.07    0.23 

CRISPRseek.Rcheck/tests/testthat.Rout


R Under development (unstable) (2021-11-21 r81221) -- "Unsuffered Consequences"
Copyright (C) 2021 The R Foundation for Statistical Computing
Platform: x86_64-w64-mingw32/x64 (64-bit)

R is free software and comes with ABSOLUTELY NO WARRANTY.
You are welcome to redistribute it under certain conditions.
Type 'license()' or 'licence()' for distribution details.

R is a collaborative project with many contributors.
Type 'contributors()' for more information and
'citation()' on how to cite R or R packages in publications.

Type 'demo()' for some demos, 'help()' for on-line help, or
'help.start()' for an HTML browser interface to help.
Type 'q()' to quit R.

> Sys.setenv(R_TESTS="")
> require("CRISPRseek") || stop("unable to load Package:CRISPRseek")
Loading required package: CRISPRseek
Loading required package: BiocGenerics

Attaching package: 'BiocGenerics'

The following objects are masked from 'package:stats':

    IQR, mad, sd, var, xtabs

The following objects are masked from 'package:base':

    Filter, Find, Map, Position, Reduce, anyDuplicated, append,
    as.data.frame, basename, cbind, colnames, dirname, do.call,
    duplicated, eval, evalq, get, grep, grepl, intersect, is.unsorted,
    lapply, mapply, match, mget, order, paste, pmax, pmax.int, pmin,
    pmin.int, rank, rbind, rownames, sapply, setdiff, sort, table,
    tapply, union, unique, unsplit, which.max, which.min

Loading required package: Biostrings
Loading required package: S4Vectors
Loading required package: stats4

Attaching package: 'S4Vectors'

The following objects are masked from 'package:base':

    I, expand.grid, unname

Loading required package: IRanges

Attaching package: 'IRanges'

The following object is masked from 'package:grDevices':

    windows

Loading required package: XVector
Loading required package: GenomeInfoDb

Attaching package: 'Biostrings'

The following object is masked from 'package:base':

    strsplit

[1] TRUE
> require("BSgenome.Hsapiens.UCSC.hg19") || stop("unable to load Package:BSgenome.Hsapiens.UCSC.hg19")
Loading required package: BSgenome.Hsapiens.UCSC.hg19
Loading required package: BSgenome
Loading required package: GenomicRanges
Loading required package: rtracklayer
[1] TRUE
> require("org.Hs.eg.db") || stop("unable to load Package:org.Hs.eg.db")
Loading required package: org.Hs.eg.db
Loading required package: AnnotationDbi
Loading required package: Biobase
Welcome to Bioconductor

    Vignettes contain introductory material; view with
    'browseVignettes()'. To cite Bioconductor, see
    'citation("Biobase")', and for packages 'citation("pkgname")'.


[1] TRUE
> require("TxDb.Hsapiens.UCSC.hg19.knownGene") || stop("unable to load TxDb.Hsapiens.UCSC.hg19.knownGene")
Loading required package: TxDb.Hsapiens.UCSC.hg19.knownGene
Loading required package: GenomicFeatures
[1] TRUE
> require("BSgenome.Mmusculus.UCSC.mm10") || stop("unable to load Package: BSgenome.Mmusculus.UCSC.mm10")
Loading required package: BSgenome.Mmusculus.UCSC.mm10
[1] TRUE
> require("TxDb.Mmusculus.UCSC.mm10.knownGene") || stop("unable to load Package:TxDb.Mmusculus.UCSC.mm10.knownGene")
Loading required package: TxDb.Mmusculus.UCSC.mm10.knownGene
[1] TRUE
> require("org.Mm.eg.db") || stop("unable to load Package:org.Mm.eg.db")
Loading required package: org.Mm.eg.db

[1] TRUE
> require("testthat") || stop("unable to load testthat")
Loading required package: testthat
[1] TRUE
> #test_check("CRISPRseek")
> 
> proc.time()
   user  system elapsed 
  12.00    1.21   13.20 

Example timings

CRISPRseek.Rcheck/CRISPRseek-Ex.timings

nameusersystemelapsed
CRISPRseek-package147.62 13.70161.57
annotateOffTargets2.250.152.41
buildFeatureVectorForScoring0.040.000.04
calculategRNAEfficiency0.020.000.02
compare2Sequences6.060.146.25
deepCpf10.020.030.05
filterOffTarget2.530.312.85
filtergRNAs0.450.000.46
findgRNAs0.220.000.22
getOfftargetScore0.090.000.09
isPatternUnique0.020.000.02
offTargetAnalysis11.89 0.8612.96
offTargetAnalysisWithoutBSgenome39.77 0.3341.13
predictRelativeFreqIndels000
searchHits0.120.000.12
searchHits2 8.63 0.9810.19
translatePattern0.000.000.08
uniqueREs0.410.020.42
writeHits000
writeHits20.170.010.19