Back to Multiple platform build/check report for BioC 3.15
AB[C]DEFGHIJKLMNOPQRSTUVWXYZ

This page was generated on 2022-01-26 11:07:25 -0500 (Wed, 26 Jan 2022).

HostnameOSArch (*)R versionInstalled pkgs
nebbiolo1Linux (Ubuntu 20.04.4 LTS)x86_64R Under development (unstable) (2022-01-05 r81451) -- "Unsuffered Consequences" 4164
riesling1Windows Server 2019 Standardx64R Under development (unstable) (2021-11-21 r81221) -- "Unsuffered Consequences" 4059
palomino3Windows Server 2022 Datacenterx64R Under development (unstable) (2021-12-21 r81400 ucrt) -- "Unsuffered Consequences" 4001
merida1macOS 10.14.6 Mojavex86_64R Under development (unstable) (2022-01-05 r81451) -- "Unsuffered Consequences" 4118
Click on any hostname to see more info about the system (e.g. compilers)      (*) as reported by 'uname -p', except on Windows and Mac OS X

BUILD results for CRISPRseek on riesling1


To the developers/maintainers of the CRISPRseek package:
- Please allow up to 24 hours (and sometimes 48 hours) for your latest push to git@git.bioconductor.org:packages/CRISPRseek.git to
reflect on this report. See How and When does the builder pull? When will my changes propagate? here for more information.
- Make sure to use the following settings in order to reproduce any error or warning you see on this page.

raw results

Package 418/2075HostnameOS / ArchINSTALLBUILDCHECKBUILD BIN
CRISPRseek 1.35.3  (landing page)
Lihua Julie Zhu
Snapshot Date: 2022-01-25 13:55:17 -0500 (Tue, 25 Jan 2022)
git_url: https://git.bioconductor.org/packages/CRISPRseek
git_branch: master
git_last_commit: 234f53f
git_last_commit_date: 2022-01-13 15:19:15 -0500 (Thu, 13 Jan 2022)
nebbiolo1Linux (Ubuntu 20.04.4 LTS) / x86_64  OK    OK    OK  UNNEEDED, same version is already published
riesling1Windows Server 2019 Standard / x64  OK    OK    OK    OK  
palomino3Windows Server 2022 Datacenter / x64  OK    OK    OK    OK  NO, package depends on 'BiocGenerics' which is not available
merida1macOS 10.14.6 Mojave / x86_64  OK    OK    OK    OK  UNNEEDED, same version is already published

Summary

Package: CRISPRseek
Version: 1.35.3
Command: chmod a+r CRISPRseek -R && D:\biocbuild\bbs-3.15-bioc\R\bin\R.exe CMD build --keep-empty-dirs --no-resave-data CRISPRseek
StartedAt: 2022-01-25 16:37:35 -0500 (Tue, 25 Jan 2022)
EndedAt: 2022-01-25 16:40:15 -0500 (Tue, 25 Jan 2022)
EllapsedTime: 160.2 seconds
RetCode: 0
Status:   OK  
PackageFile: CRISPRseek_1.35.3.tar.gz
PackageFileSize: 10.7 MiB

Command output

##############################################################################
##############################################################################
###
### Running command:
###
###   chmod a+r CRISPRseek -R && D:\biocbuild\bbs-3.15-bioc\R\bin\R.exe CMD build --keep-empty-dirs --no-resave-data CRISPRseek
###
##############################################################################
##############################################################################


* checking for file 'CRISPRseek/DESCRIPTION' ... OK
* preparing 'CRISPRseek':
* checking DESCRIPTION meta-information ... OK
* installing the package to build vignettes
* creating vignettes ... OK
* checking for LF line-endings in source and make files and shell scripts
* checking for empty or unneeded directories
* building 'CRISPRseek_1.35.3.tar.gz'