Back to Multiple platform build/check report for BioC 3.15
AB[C]DEFGHIJKLMNOPQRSTUVWXYZ

This page was generated on 2022-01-21 11:07:18 -0500 (Fri, 21 Jan 2022).

HostnameOSArch (*)R versionInstalled pkgs
nebbiolo1Linux (Ubuntu 20.04.4 LTS)x86_64R Under development (unstable) (2022-01-05 r81451) -- "Unsuffered Consequences" 4163
riesling1Windows Server 2019 Standardx64R Under development (unstable) (2021-11-21 r81221) -- "Unsuffered Consequences" 4058
palomino3Windows Server 2022 Datacenterx64R Under development (unstable) (2021-12-21 r81400 ucrt) -- "Unsuffered Consequences" 4000
merida1macOS 10.14.6 Mojavex86_64R Under development (unstable) (2022-01-05 r81451) -- "Unsuffered Consequences" 4117
Click on any hostname to see more info about the system (e.g. compilers)      (*) as reported by 'uname -p', except on Windows and Mac OS X

BUILD BIN results for CRISPRseek on riesling1


To the developers/maintainers of the CRISPRseek package:
- Please allow up to 24 hours (and sometimes 48 hours) for your latest push to git@git.bioconductor.org:packages/CRISPRseek.git to
reflect on this report. See How and When does the builder pull? When will my changes propagate? here for more information.
- Make sure to use the following settings in order to reproduce any error or warning you see on this page.

raw results

Package 418/2075HostnameOS / ArchINSTALLBUILDCHECKBUILD BIN
CRISPRseek 1.35.3  (landing page)
Lihua Julie Zhu
Snapshot Date: 2022-01-20 13:55:17 -0500 (Thu, 20 Jan 2022)
git_url: https://git.bioconductor.org/packages/CRISPRseek
git_branch: master
git_last_commit: 234f53f
git_last_commit_date: 2022-01-13 15:19:15 -0500 (Thu, 13 Jan 2022)
nebbiolo1Linux (Ubuntu 20.04.4 LTS) / x86_64  OK    OK    OK  UNNEEDED, same version is already published
riesling1Windows Server 2019 Standard / x64  OK    OK    OK    OK  
palomino3Windows Server 2022 Datacenter / x64  OK    OK    OK    OK  NO, package depends on 'BiocGenerics' which is not available
merida1macOS 10.14.6 Mojave / x86_64  OK    OK    OK    OK  UNNEEDED, same version is already published

Summary

Package: CRISPRseek
Version: 1.35.3
Command: rm -rf CRISPRseek.buildbin-libdir && mkdir CRISPRseek.buildbin-libdir && D:\biocbuild\bbs-3.15-bioc\R\bin\R.exe CMD INSTALL --build --library=CRISPRseek.buildbin-libdir CRISPRseek_1.35.3.tar.gz
StartedAt: 2022-01-20 20:48:15 -0500 (Thu, 20 Jan 2022)
EndedAt: 2022-01-20 20:49:17 -0500 (Thu, 20 Jan 2022)
EllapsedTime: 62.8 seconds
RetCode: 0
Status:   OK  
PackageFile: CRISPRseek_1.35.3.zip
PackageFileSize: 11.04 MiB

Command output

##############################################################################
##############################################################################
###
### Running command:
###
###   rm -rf CRISPRseek.buildbin-libdir && mkdir CRISPRseek.buildbin-libdir && D:\biocbuild\bbs-3.15-bioc\R\bin\R.exe CMD INSTALL --build --library=CRISPRseek.buildbin-libdir CRISPRseek_1.35.3.tar.gz
###
##############################################################################
##############################################################################


* installing *source* package 'CRISPRseek' ...
** using staged installation
** R
** inst
** byte-compile and prepare package for lazy loading
** help
*** installing help indices
  converting help for package 'CRISPRseek'
    finding HTML links ... done
    CRISPRseek-package                      html  
    annotateOffTargets                      html  
    buildFeatureVectorForScoring            html  
    calculategRNAEfficiency                 html  
    compare2Sequences                       html  
    deepCpf1                                html  
    filterOffTarget                         html  
    filtergRNAs                             html  
    findgRNAs                               html  
    getOfftargetScore                       html  
    isPatternUnique                         html  
    offTargetAnalysis                       html  
    offTargetAnalysisWithoutBSgenome        html  
    predictRelativeFreqIndels               html  
    searchHits                              html  
    searchHits2                             html  
    translatePattern                        html  
    uniqueREs                               html  
    writeHits                               html  
    writeHits2                              html  
** building package indices
** installing vignettes
** testing if installed package can be loaded from temporary location
** testing if installed package can be loaded from final location
** testing if installed package keeps a record of temporary installation path
* MD5 sums
packaged installation of 'CRISPRseek' as CRISPRseek_1.35.3.zip
* DONE (CRISPRseek)